BEGIN:VCALENDAR
VERSION:2.0
PRODID:-//SP Stadt Luzern - ECPv6.15.20//NONSGML v1.0//EN
CALSCALE:GREGORIAN
METHOD:PUBLISH
X-WR-CALNAME:SP Stadt Luzern
X-ORIGINAL-URL:https://sp-stadtluzern.ch
X-WR-CALDESC:Veranstaltungen im SP Stadt Luzern
REFRESH-INTERVAL;VALUE=DURATION:PT1H
X-Robots-Tag:noindex
X-PUBLISHED-TTL:PT1H
BEGIN:VTIMEZONE
TZID:Europe/Zurich
BEGIN:DAYLIGHT
TZOFFSETFROM:+0100
TZOFFSETTO:+0200
TZNAME:CEST
DTSTART:20200329T010000
END:DAYLIGHT
BEGIN:STANDARD
TZOFFSETFROM:+0200
TZOFFSETTO:+0100
TZNAME:CET
DTSTART:20201025T010000
END:STANDARD
BEGIN:DAYLIGHT
TZOFFSETFROM:+0100
TZOFFSETTO:+0200
TZNAME:CEST
DTSTART:20210328T010000
END:DAYLIGHT
BEGIN:STANDARD
TZOFFSETFROM:+0200
TZOFFSETTO:+0100
TZNAME:CET
DTSTART:20211031T010000
END:STANDARD
BEGIN:DAYLIGHT
TZOFFSETFROM:+0100
TZOFFSETTO:+0200
TZNAME:CEST
DTSTART:20220327T010000
END:DAYLIGHT
BEGIN:STANDARD
TZOFFSETFROM:+0200
TZOFFSETTO:+0100
TZNAME:CET
DTSTART:20221030T010000
END:STANDARD
END:VTIMEZONE
BEGIN:VEVENT
DTSTART;TZID=Europe/Zurich:20210927T173000
DTEND;TZID=Europe/Zurich:20210927T173000
DTSTAMP:20260420T183558
CREATED:20210907T064546Z
LAST-MODIFIED:20210907T064546Z
UID:88864-1632763800-1632763800@sp-stadtluzern.ch
SUMMARY:Workshop: Diversität in der SP Stadt Luzern
DESCRIPTION:Wie nimmst du die SP Stadt Luzern in Bezug auf Diversität wahr? Braucht es Anpassungen oder ist es ganz okay so? Uns interessiert deine Meinung! \nEine parteiinterne Projektgruppe mit Vertretungen aus Kantonsrat\, Grossstadtrat\, SP Frauen* Luzern\, SP60+ und Geschäftsleitung hat sich zusammengetan und das Sektionshandbuch der SP Schweiz «Frauenförderung» angeschaut.Gemeinsam haben wir uns entschieden\, die Thematik Gleichstellung breiter zu denken und auszuweiten. Wie steht es um die Vielfalt in Bezug auf Geschlecht\, Menschen mit Behinderung\, Migrant*innen und anderen?Diese Frage möchten wir aktiv mit dir an einem Workshop diskutieren. Wir diskutieren Fragen wie: Sind die Aktionen/Veranstaltungen für alle Mitglieder offen? Repräsentieren die Kandidat*innen bei Wahlen die Basis? Sind Projekt-/Arbeitsgruppen und weitere Gremien divers zusammengestellt? Können sich alle zu Wort melden\, die möchten? Sind die Veranstaltungen so gelegt (Zeit\, Ort\, Organisation)\, dass du teilnehmen kannst? Weisst du\, wie du dich engagieren kannst? Werden die wichtigen Themen angesprochen? Komm auch du am 27. September vorbei und teil deine Einschätzung und Ideen mit uns. Wir freuen uns auf deine Teilnahme!
URL:https://sp-stadtluzern.ch/veranstaltung/workshop-diversitaet-in-der-sp-stadt-luzern/
END:VEVENT
END:VCALENDAR