BEGIN:VCALENDAR
VERSION:2.0
PRODID:-//SP Stadt Luzern - ECPv6.15.20//NONSGML v1.0//EN
CALSCALE:GREGORIAN
METHOD:PUBLISH
X-WR-CALNAME:SP Stadt Luzern
X-ORIGINAL-URL:https://sp-stadtluzern.ch
X-WR-CALDESC:Veranstaltungen im SP Stadt Luzern
REFRESH-INTERVAL;VALUE=DURATION:PT1H
X-Robots-Tag:noindex
X-PUBLISHED-TTL:PT1H
BEGIN:VTIMEZONE
TZID:Europe/Zurich
BEGIN:DAYLIGHT
TZOFFSETFROM:+0100
TZOFFSETTO:+0200
TZNAME:CEST
DTSTART:20210328T010000
END:DAYLIGHT
BEGIN:STANDARD
TZOFFSETFROM:+0200
TZOFFSETTO:+0100
TZNAME:CET
DTSTART:20211031T010000
END:STANDARD
BEGIN:DAYLIGHT
TZOFFSETFROM:+0100
TZOFFSETTO:+0200
TZNAME:CEST
DTSTART:20220327T010000
END:DAYLIGHT
BEGIN:STANDARD
TZOFFSETFROM:+0200
TZOFFSETTO:+0100
TZNAME:CET
DTSTART:20221030T010000
END:STANDARD
BEGIN:DAYLIGHT
TZOFFSETFROM:+0100
TZOFFSETTO:+0200
TZNAME:CEST
DTSTART:20230326T010000
END:DAYLIGHT
BEGIN:STANDARD
TZOFFSETFROM:+0200
TZOFFSETTO:+0100
TZNAME:CET
DTSTART:20231029T010000
END:STANDARD
END:VTIMEZONE
BEGIN:VEVENT
DTSTART;TZID=Europe/Zurich:20221213T183000
DTEND;TZID=Europe/Zurich:20221213T183000
DTSTAMP:20260420T165733
CREATED:20221205T140111Z
LAST-MODIFIED:20221205T140111Z
UID:88894-1670956200-1670956200@sp-stadtluzern.ch
SUMMARY:Workshop Airbnb-Initiative
DESCRIPTION:Am Dienstag 13.12.2022 treffen wir uns bereits zur dritten Runde zur Kampagnenplanung der Airbnb-Initiative.  \nHast du Lust mit uns weiter an der Kampagne zu feilen?  \nWir treffen uns um 19h30 im Barfüesser und freuen uns auf spannende Diskusionen mit euch. 
URL:https://sp-stadtluzern.ch/veranstaltung/workshop-airbnb-initiative-2/
END:VEVENT
END:VCALENDAR