BEGIN:VCALENDAR
VERSION:2.0
PRODID:-//SP Stadt Luzern - ECPv6.15.20//NONSGML v1.0//EN
CALSCALE:GREGORIAN
METHOD:PUBLISH
X-WR-CALNAME:SP Stadt Luzern
X-ORIGINAL-URL:https://sp-stadtluzern.ch
X-WR-CALDESC:Veranstaltungen im SP Stadt Luzern
REFRESH-INTERVAL;VALUE=DURATION:PT1H
X-Robots-Tag:noindex
X-PUBLISHED-TTL:PT1H
BEGIN:VTIMEZONE
TZID:Europe/Zurich
BEGIN:DAYLIGHT
TZOFFSETFROM:+0100
TZOFFSETTO:+0200
TZNAME:CEST
DTSTART:20150329T010000
END:DAYLIGHT
BEGIN:STANDARD
TZOFFSETFROM:+0200
TZOFFSETTO:+0100
TZNAME:CET
DTSTART:20151025T010000
END:STANDARD
BEGIN:DAYLIGHT
TZOFFSETFROM:+0100
TZOFFSETTO:+0200
TZNAME:CEST
DTSTART:20160327T010000
END:DAYLIGHT
BEGIN:STANDARD
TZOFFSETFROM:+0200
TZOFFSETTO:+0100
TZNAME:CET
DTSTART:20161030T010000
END:STANDARD
BEGIN:DAYLIGHT
TZOFFSETFROM:+0100
TZOFFSETTO:+0200
TZNAME:CEST
DTSTART:20170326T010000
END:DAYLIGHT
BEGIN:STANDARD
TZOFFSETFROM:+0200
TZOFFSETTO:+0100
TZNAME:CET
DTSTART:20171029T010000
END:STANDARD
END:VTIMEZONE
BEGIN:VEVENT
DTSTART;TZID=Europe/Zurich:20160408T160000
DTEND;TZID=Europe/Zurich:20160409T020000
DTSTAMP:20260420T170041
CREATED:20160301T182022Z
LAST-MODIFIED:20160301T182022Z
UID:88740-1460131200-1460167200@sp-stadtluzern.ch
SUMMARY:Wahlauftakt mit Kulturprogramm und Apéro im Uferlos
DESCRIPTION:Am Freitag\, 8. April\, läuten wir im Uferlos die heisse Phase des Wahlkampfs ein. Wir starten um 18 Uhr mit Kartenschreiben für alle und leiten dann mit einem Apéro in den gemütlichen Teil über. Das Abendprogramm ist öffentlich und wird von Kandidatinnen und Kandidaten bestritten: Singer/Songwriterin Eli van der Bar und die Indie-Folk-Rocker Augustine’s Suspenders treten live auf\, dazwischen und danach legen diverse DJs Swing/Jazz und italienische Hits von den 60ern bis heute auf.
URL:https://sp-stadtluzern.ch/veranstaltung/wahlauftakt-mit-kulturprogramm-und-apero-im-uferlos/
END:VEVENT
END:VCALENDAR