BEGIN:VCALENDAR
VERSION:2.0
PRODID:-//SP Stadt Luzern - ECPv6.15.20//NONSGML v1.0//EN
CALSCALE:GREGORIAN
METHOD:PUBLISH
X-WR-CALNAME:SP Stadt Luzern
X-ORIGINAL-URL:https://sp-stadtluzern.ch
X-WR-CALDESC:Veranstaltungen im SP Stadt Luzern
REFRESH-INTERVAL;VALUE=DURATION:PT1H
X-Robots-Tag:noindex
X-PUBLISHED-TTL:PT1H
BEGIN:VTIMEZONE
TZID:Europe/Zurich
BEGIN:DAYLIGHT
TZOFFSETFROM:+0100
TZOFFSETTO:+0200
TZNAME:CEST
DTSTART:20210328T010000
END:DAYLIGHT
BEGIN:STANDARD
TZOFFSETFROM:+0200
TZOFFSETTO:+0100
TZNAME:CET
DTSTART:20211031T010000
END:STANDARD
BEGIN:DAYLIGHT
TZOFFSETFROM:+0100
TZOFFSETTO:+0200
TZNAME:CEST
DTSTART:20220327T010000
END:DAYLIGHT
BEGIN:STANDARD
TZOFFSETFROM:+0200
TZOFFSETTO:+0100
TZNAME:CET
DTSTART:20221030T010000
END:STANDARD
BEGIN:DAYLIGHT
TZOFFSETFROM:+0100
TZOFFSETTO:+0200
TZNAME:CEST
DTSTART:20230326T010000
END:DAYLIGHT
BEGIN:STANDARD
TZOFFSETFROM:+0200
TZOFFSETTO:+0100
TZNAME:CET
DTSTART:20231029T010000
END:STANDARD
END:VTIMEZONE
BEGIN:VEVENT
DTSTART;TZID=Europe/Zurich:20220309T180000
DTEND;TZID=Europe/Zurich:20220309T180000
DTSTAMP:20260420T183739
CREATED:20220221T092138Z
LAST-MODIFIED:20220221T092138Z
UID:88878-1646848800-1646848800@sp-stadtluzern.ch
SUMMARY:Treffen der Projektgruppe Littau/Reussbühl
DESCRIPTION:Die Projektgruppe Littau/Reussbühl trifft sich das nächste Mal am 9. März im Don Carlos (Ruopigenplatz 14\, 6015). \nBei einem gemütlichen Abendessen diskutieren wir unsere Pläne für ein zukunftfähiges Quartier. \nVorwissen brauchst du keines und eine Anmeldung ist auch nicht nötig. \nBei Fragen kannst du dich direkt bei Simone Brunner (brunner.simone@bluewin.ch) melden. \nWir freuen uns auf neue und alte Gesichter! \n 
URL:https://sp-stadtluzern.ch/veranstaltung/treffen-der-projektgruppe-littau-reussbuehl-2/
END:VEVENT
END:VCALENDAR