BEGIN:VCALENDAR
VERSION:2.0
PRODID:-//SP Stadt Luzern - ECPv6.15.20//NONSGML v1.0//EN
CALSCALE:GREGORIAN
METHOD:PUBLISH
X-WR-CALNAME:SP Stadt Luzern
X-ORIGINAL-URL:https://sp-stadtluzern.ch
X-WR-CALDESC:Veranstaltungen im SP Stadt Luzern
REFRESH-INTERVAL;VALUE=DURATION:PT1H
X-Robots-Tag:noindex
X-PUBLISHED-TTL:PT1H
BEGIN:VTIMEZONE
TZID:Europe/Zurich
BEGIN:DAYLIGHT
TZOFFSETFROM:+0100
TZOFFSETTO:+0200
TZNAME:CEST
DTSTART:20180325T010000
END:DAYLIGHT
BEGIN:STANDARD
TZOFFSETFROM:+0200
TZOFFSETTO:+0100
TZNAME:CET
DTSTART:20181028T010000
END:STANDARD
BEGIN:DAYLIGHT
TZOFFSETFROM:+0100
TZOFFSETTO:+0200
TZNAME:CEST
DTSTART:20190331T010000
END:DAYLIGHT
BEGIN:STANDARD
TZOFFSETFROM:+0200
TZOFFSETTO:+0100
TZNAME:CET
DTSTART:20191027T010000
END:STANDARD
BEGIN:DAYLIGHT
TZOFFSETFROM:+0100
TZOFFSETTO:+0200
TZNAME:CEST
DTSTART:20200329T010000
END:DAYLIGHT
BEGIN:STANDARD
TZOFFSETFROM:+0200
TZOFFSETTO:+0100
TZNAME:CET
DTSTART:20201025T010000
END:STANDARD
END:VTIMEZONE
BEGIN:VEVENT
DTSTART;TZID=Europe/Zurich:20190501T130000
DTEND;TZID=Europe/Zurich:20190501T130000
DTSTAMP:20260420T183102
CREATED:20181210T133854Z
LAST-MODIFIED:20181210T133854Z
UID:88810-1556715600-1556715600@sp-stadtluzern.ch
SUMMARY:Tag der Arbeit 2019
DESCRIPTION:15.00 Uhr:    Kinderprogramm: Spieltraum mit dem Spielmobil (bis 18.00 Uhr). Die Erwachsenen basteln auch: Schilder und Transpis für den Frauenstreik \n18.00 Uhr:    Essen im Bistro \n19.00 Uhr:    Rede Korintha Bärtsch\, Regierungsratskandidatin \n                     Hauptreferat Natascha Wey\, Präsidentin SP-Frauen* Schweiz \n19.30 Uhr:    Aktion zum Frauenstreik vom 14. Juni 2019 \n20.00 Uhr:    Podiumsdiskussion mit Cécile Bühlmann (alt Nationalrätin Grüne)\, Natascha Wey (Präsidentin SP-Frauen* Schweiz)\, Urban Sager (Präsident VPOD Luzern\, Kantonsrat SP)\, Jana Avanzini (Mitorganisatorin Luzerner Frauenstreik) und Eylem Demirci (Fachperson Migration) im Neubad-Pool \n21.00 Uhr     Konzert mit BAZE (Hip Hop\, Bern) im Neubadkeller
URL:https://sp-stadtluzern.ch/veranstaltung/tag-der-arbeit-2019/
END:VEVENT
END:VCALENDAR