BEGIN:VCALENDAR
VERSION:2.0
PRODID:-//SP Stadt Luzern - ECPv6.15.20//NONSGML v1.0//EN
CALSCALE:GREGORIAN
METHOD:PUBLISH
X-WR-CALNAME:SP Stadt Luzern
X-ORIGINAL-URL:https://sp-stadtluzern.ch
X-WR-CALDESC:Veranstaltungen im SP Stadt Luzern
REFRESH-INTERVAL;VALUE=DURATION:PT1H
X-Robots-Tag:noindex
X-PUBLISHED-TTL:PT1H
BEGIN:VTIMEZONE
TZID:Europe/Zurich
BEGIN:DAYLIGHT
TZOFFSETFROM:+0100
TZOFFSETTO:+0200
TZNAME:CEST
DTSTART:20160327T010000
END:DAYLIGHT
BEGIN:STANDARD
TZOFFSETFROM:+0200
TZOFFSETTO:+0100
TZNAME:CET
DTSTART:20161030T010000
END:STANDARD
BEGIN:DAYLIGHT
TZOFFSETFROM:+0100
TZOFFSETTO:+0200
TZNAME:CEST
DTSTART:20170326T010000
END:DAYLIGHT
BEGIN:STANDARD
TZOFFSETFROM:+0200
TZOFFSETTO:+0100
TZNAME:CET
DTSTART:20171029T010000
END:STANDARD
BEGIN:DAYLIGHT
TZOFFSETFROM:+0100
TZOFFSETTO:+0200
TZNAME:CEST
DTSTART:20180325T010000
END:DAYLIGHT
BEGIN:STANDARD
TZOFFSETFROM:+0200
TZOFFSETTO:+0100
TZNAME:CET
DTSTART:20181028T010000
END:STANDARD
END:VTIMEZONE
BEGIN:VEVENT
DTSTART;TZID=Europe/Zurich:20170701T120000
DTEND;TZID=Europe/Zurich:20170701T214500
DTSTAMP:20260420T183050
CREATED:20170620T055955Z
LAST-MODIFIED:20170620T055955Z
UID:88766-1498910400-1498945500@sp-stadtluzern.ch
SUMMARY:Neustadtfest
DESCRIPTION:Die erste Ausgabe des Neustadt-Strassenfests findet am 1. Juli an der Neustadtstrasse statt. Für zehn Stunden wird auf der verkehrsbefreiten Strasse musiziert\, gespielt und genossen. Die kleinsten Bewohnerinnen und Bewohner des Quartiers können sich am Spielenachmittag austoben\, für kulturaffine Personen steht ein abwechslungsreiches Musikprogramm und den ganzen Tag hindurch wird für das leibliche Wohl aller Anwohnenden durch regionale Gastronomie gesorgt sein. \nFetswirtschaft und Kinderprogramm bei jedem Wetter. \nBegrüssung durch Stadtpräsident Beat Züsli \nMusik von:♫ Silver Firs♫ Long Tall Jefferson♫ Vocabular♫ MoreEats♫ Haubi Songs… Mehr anzeigen
URL:https://sp-stadtluzern.ch/veranstaltung/neustadtfest/
END:VEVENT
END:VCALENDAR