BEGIN:VCALENDAR
VERSION:2.0
PRODID:-//SP Stadt Luzern - ECPv6.15.20//NONSGML v1.0//EN
CALSCALE:GREGORIAN
METHOD:PUBLISH
X-WR-CALNAME:SP Stadt Luzern
X-ORIGINAL-URL:https://sp-stadtluzern.ch
X-WR-CALDESC:Veranstaltungen im SP Stadt Luzern
REFRESH-INTERVAL;VALUE=DURATION:PT1H
X-Robots-Tag:noindex
X-PUBLISHED-TTL:PT1H
BEGIN:VTIMEZONE
TZID:Europe/Zurich
BEGIN:DAYLIGHT
TZOFFSETFROM:+0100
TZOFFSETTO:+0200
TZNAME:CEST
DTSTART:20200329T010000
END:DAYLIGHT
BEGIN:STANDARD
TZOFFSETFROM:+0200
TZOFFSETTO:+0100
TZNAME:CET
DTSTART:20201025T010000
END:STANDARD
BEGIN:DAYLIGHT
TZOFFSETFROM:+0100
TZOFFSETTO:+0200
TZNAME:CEST
DTSTART:20210328T010000
END:DAYLIGHT
BEGIN:STANDARD
TZOFFSETFROM:+0200
TZOFFSETTO:+0100
TZNAME:CET
DTSTART:20211031T010000
END:STANDARD
BEGIN:DAYLIGHT
TZOFFSETFROM:+0100
TZOFFSETTO:+0200
TZNAME:CEST
DTSTART:20220327T010000
END:DAYLIGHT
BEGIN:STANDARD
TZOFFSETFROM:+0200
TZOFFSETTO:+0100
TZNAME:CET
DTSTART:20221030T010000
END:STANDARD
END:VTIMEZONE
BEGIN:VEVENT
DTSTART;TZID=Europe/Zurich:20211215T173000
DTEND;TZID=Europe/Zurich:20211215T173000
DTSTAMP:20260420T165741
CREATED:20201218T160141Z
LAST-MODIFIED:20201218T160141Z
UID:88854-1639589400-1639589400@sp-stadtluzern.ch
SUMMARY:Neumitgliederanlass
DESCRIPTION:Auch in diesem Jahr veranstalten wir einen Anlass für alle Menschen\, die im Jahr 2021 zur SP Stadt Luzern gestossen sind. Im Verlaufe des Abends lernen wir prominente Vertreter*innen der SP Stadt Luzern kennen und unterhalten uns mit ihnen an verschiedenen Posten über aktuelle stadtpolitische Themen. \nDa wir über ein Sicherheitskonzept verfügen\, können wir den Anlass trotz der aktuellen Covid-Situation mit gutem Gewissen durchführen. Wir werden Kleingruppen bilden und verbringen relativ viel Zeit an der frischen Luft\, zieht euch also warm an! \nWir treffen uns um 18.30 Uhr vor dem Sekretariat der SP Luzern (Theaterst. 7\, 3007). Für die Teilnahme gilt 3G-Pflicht\, bringt also euer Zertifikat und einen gültigen Ausweis mit. Zudem empfehlen wir in den Innenräumen Masken zu tragen. \nBei Fragen kannst du dich per Mail an stadt@sp-luzern.ch melden.  \nWir freuen uns auf viele neue und bereits bekannte Gesichter!
URL:https://sp-stadtluzern.ch/veranstaltung/neumitgliederanlass/
END:VEVENT
END:VCALENDAR