BEGIN:VCALENDAR
VERSION:2.0
PRODID:-//SP Stadt Luzern - ECPv6.15.20//NONSGML v1.0//EN
CALSCALE:GREGORIAN
METHOD:PUBLISH
X-WR-CALNAME:SP Stadt Luzern
X-ORIGINAL-URL:https://sp-stadtluzern.ch
X-WR-CALDESC:Veranstaltungen im SP Stadt Luzern
REFRESH-INTERVAL;VALUE=DURATION:PT1H
X-Robots-Tag:noindex
X-PUBLISHED-TTL:PT1H
BEGIN:VTIMEZONE
TZID:Europe/Zurich
BEGIN:DAYLIGHT
TZOFFSETFROM:+0100
TZOFFSETTO:+0200
TZNAME:CEST
DTSTART:20160327T010000
END:DAYLIGHT
BEGIN:STANDARD
TZOFFSETFROM:+0200
TZOFFSETTO:+0100
TZNAME:CET
DTSTART:20161030T010000
END:STANDARD
BEGIN:DAYLIGHT
TZOFFSETFROM:+0100
TZOFFSETTO:+0200
TZNAME:CEST
DTSTART:20170326T010000
END:DAYLIGHT
BEGIN:STANDARD
TZOFFSETFROM:+0200
TZOFFSETTO:+0100
TZNAME:CET
DTSTART:20171029T010000
END:STANDARD
BEGIN:DAYLIGHT
TZOFFSETFROM:+0100
TZOFFSETTO:+0200
TZNAME:CEST
DTSTART:20180325T010000
END:DAYLIGHT
BEGIN:STANDARD
TZOFFSETFROM:+0200
TZOFFSETTO:+0100
TZNAME:CET
DTSTART:20181028T010000
END:STANDARD
END:VTIMEZONE
BEGIN:VEVENT
DTSTART;TZID=Europe/Zurich:20171205T183000
DTEND;TZID=Europe/Zurich:20171205T183000
DTSTAMP:20260420T183600
CREATED:20161009T115434Z
LAST-MODIFIED:20161009T115434Z
UID:88762-1512498600-1512498600@sp-stadtluzern.ch
SUMMARY:Neumitgliederanlass SP Stadt Luzern
DESCRIPTION:Der Neumitgliederanlass richtet sich zwar primär an Personen\, die im vergangenen Jahr der SP Stadt Luzern beigetreten sind. Sehr gerne dürfen aber auch Personen kommen\, die bereits länger dabei sind\, aber gerne mehr über die SP\, aktuelle politische Themenfelder wissen oder MandatsträgerInnen besser kennenlernen möchten. 
URL:https://sp-stadtluzern.ch/veranstaltung/neumitgliederanlass-sp-stadt-luzern/
END:VEVENT
END:VCALENDAR