BEGIN:VCALENDAR
VERSION:2.0
PRODID:-//SP Stadt Luzern - ECPv6.15.20//NONSGML v1.0//EN
CALSCALE:GREGORIAN
METHOD:PUBLISH
X-WR-CALNAME:SP Stadt Luzern
X-ORIGINAL-URL:https://sp-stadtluzern.ch
X-WR-CALDESC:Veranstaltungen im SP Stadt Luzern
REFRESH-INTERVAL;VALUE=DURATION:PT1H
X-Robots-Tag:noindex
X-PUBLISHED-TTL:PT1H
BEGIN:VTIMEZONE
TZID:Europe/Zurich
BEGIN:DAYLIGHT
TZOFFSETFROM:+0100
TZOFFSETTO:+0200
TZNAME:CEST
DTSTART:20170326T010000
END:DAYLIGHT
BEGIN:STANDARD
TZOFFSETFROM:+0200
TZOFFSETTO:+0100
TZNAME:CET
DTSTART:20171029T010000
END:STANDARD
BEGIN:DAYLIGHT
TZOFFSETFROM:+0100
TZOFFSETTO:+0200
TZNAME:CEST
DTSTART:20180325T010000
END:DAYLIGHT
BEGIN:STANDARD
TZOFFSETFROM:+0200
TZOFFSETTO:+0100
TZNAME:CET
DTSTART:20181028T010000
END:STANDARD
BEGIN:DAYLIGHT
TZOFFSETFROM:+0100
TZOFFSETTO:+0200
TZNAME:CEST
DTSTART:20190331T010000
END:DAYLIGHT
BEGIN:STANDARD
TZOFFSETFROM:+0200
TZOFFSETTO:+0100
TZNAME:CET
DTSTART:20191027T010000
END:STANDARD
END:VTIMEZONE
BEGIN:VEVENT
DTSTART;TZID=Europe/Zurich:20181204T181500
DTEND;TZID=Europe/Zurich:20181204T181500
DTSTAMP:20260420T183242
CREATED:20180115T173854Z
LAST-MODIFIED:20180115T173854Z
UID:88787-1543947300-1543947300@sp-stadtluzern.ch
SUMMARY:Neumitgliederanlass 2018
DESCRIPTION:Ihr seid Ende 2017 oder im Jahr 2018 der SP Stadt Luzern beigetreten. Das freut uns sehr! \nGerne möchten wir euch zum Neumitglieder-Anlass einladen\, euch persönlich kennen lernen\, allfällige Fragen beantworten und vor allem mit euch anstossen!\nÜber eure An- oder Abmeldung bis am Freitag\, 16. November 2018 sind wir sehr dankbar. \nBitte benutzt dazu folgendes Formular: https://goo.gl/forms/GyEDzfRjRNOCroEX2\n \nTraktanden:\n1. Begrüssungsworte durch Stadtpräsident Beat Züsli (SP)\n2. Polit-Werkstatt zu folgenden Themen:\n– Politik in der Stadt Luzern\n– Politik im Kanton Luzern\n– Nationale Politik\n– Die SP und ihre Strukturen\n3. Vorstellungsrunde Geschäftsleitung SP Stadt Luzern und Sekretariat\n4. Ansprache durch den Präsidenten der SP Stadt Luzern\, Claudio Soldati\n5. Apéro\n \n 
URL:https://sp-stadtluzern.ch/veranstaltung/neumitgliederanlass-2018/
END:VEVENT
END:VCALENDAR