BEGIN:VCALENDAR
VERSION:2.0
PRODID:-//SP Stadt Luzern - ECPv6.15.20//NONSGML v1.0//EN
CALSCALE:GREGORIAN
METHOD:PUBLISH
X-WR-CALNAME:SP Stadt Luzern
X-ORIGINAL-URL:https://sp-stadtluzern.ch
X-WR-CALDESC:Veranstaltungen im SP Stadt Luzern
REFRESH-INTERVAL;VALUE=DURATION:PT1H
X-Robots-Tag:noindex
X-PUBLISHED-TTL:PT1H
BEGIN:VTIMEZONE
TZID:Europe/Zurich
BEGIN:DAYLIGHT
TZOFFSETFROM:+0100
TZOFFSETTO:+0200
TZNAME:CEST
DTSTART:20220327T010000
END:DAYLIGHT
BEGIN:STANDARD
TZOFFSETFROM:+0200
TZOFFSETTO:+0100
TZNAME:CET
DTSTART:20221030T010000
END:STANDARD
BEGIN:DAYLIGHT
TZOFFSETFROM:+0100
TZOFFSETTO:+0200
TZNAME:CEST
DTSTART:20230326T010000
END:DAYLIGHT
BEGIN:STANDARD
TZOFFSETFROM:+0200
TZOFFSETTO:+0100
TZNAME:CET
DTSTART:20231029T010000
END:STANDARD
BEGIN:DAYLIGHT
TZOFFSETFROM:+0100
TZOFFSETTO:+0200
TZNAME:CEST
DTSTART:20240331T010000
END:DAYLIGHT
BEGIN:STANDARD
TZOFFSETFROM:+0200
TZOFFSETTO:+0100
TZNAME:CET
DTSTART:20241027T010000
END:STANDARD
END:VTIMEZONE
BEGIN:VEVENT
DTSTART;TZID=Europe/Zurich:20230510T173000
DTEND;TZID=Europe/Zurich:20230510T173000
DTSTAMP:20260420T165027
CREATED:20230131T152057Z
LAST-MODIFIED:20230131T152057Z
UID:88904-1683739800-1683739800@sp-stadtluzern.ch
SUMMARY:Mitgliederversammlung SP Stadt Luzern
DESCRIPTION:Gerne laden wir dich zur kommenden Mitgliederversammlung der SP Stadt Luzern ein. Im Rahmen der «Tour des Sections» der SP Schweiz besuchen die Mitglieder des Parteipräsidiums die Sektionen und informieren uns über den Wahlkampf für die eidgenössischen Wahlen vom 22. Oktober 2023. Am Mittwoch\, 10. Mai 2023 besucht uns die Co-Präsidentin der SP Schweiz\, die Zürcher Nationalrätin Mattea Meyer\, in Luzern. Wir freuen uns sehr!Hier findest du die Einladung.Und hier zur Einstimmung die aktuelle Ausgabe des Podcasts Meyer:Wermuth.
URL:https://sp-stadtluzern.ch/veranstaltung/mitgliederversammlung-sp-stadt-luzern-21/
END:VEVENT
END:VCALENDAR