BEGIN:VCALENDAR
VERSION:2.0
PRODID:-//SP Stadt Luzern - ECPv6.15.20//NONSGML v1.0//EN
CALSCALE:GREGORIAN
METHOD:PUBLISH
X-WR-CALNAME:SP Stadt Luzern
X-ORIGINAL-URL:https://sp-stadtluzern.ch
X-WR-CALDESC:Veranstaltungen im SP Stadt Luzern
REFRESH-INTERVAL;VALUE=DURATION:PT1H
X-Robots-Tag:noindex
X-PUBLISHED-TTL:PT1H
BEGIN:VTIMEZONE
TZID:Europe/Zurich
BEGIN:DAYLIGHT
TZOFFSETFROM:+0100
TZOFFSETTO:+0200
TZNAME:CEST
DTSTART:20210328T010000
END:DAYLIGHT
BEGIN:STANDARD
TZOFFSETFROM:+0200
TZOFFSETTO:+0100
TZNAME:CET
DTSTART:20211031T010000
END:STANDARD
BEGIN:DAYLIGHT
TZOFFSETFROM:+0100
TZOFFSETTO:+0200
TZNAME:CEST
DTSTART:20220327T010000
END:DAYLIGHT
BEGIN:STANDARD
TZOFFSETFROM:+0200
TZOFFSETTO:+0100
TZNAME:CET
DTSTART:20221030T010000
END:STANDARD
BEGIN:DAYLIGHT
TZOFFSETFROM:+0100
TZOFFSETTO:+0200
TZNAME:CEST
DTSTART:20230326T010000
END:DAYLIGHT
BEGIN:STANDARD
TZOFFSETFROM:+0200
TZOFFSETTO:+0100
TZNAME:CET
DTSTART:20231029T010000
END:STANDARD
END:VTIMEZONE
BEGIN:VEVENT
DTSTART;TZID=Europe/Zurich:20220104T183000
DTEND;TZID=Europe/Zurich:20220104T183000
DTSTAMP:20260420T165028
CREATED:20211028T121315Z
LAST-MODIFIED:20211028T121315Z
UID:88867-1641321000-1641321000@sp-stadtluzern.ch
SUMMARY:Mitgliederversammlung SP Stadt Luzern
DESCRIPTION:Die Mitgliederversammlung vom 4. Januar 2022 findet aufgrund der aktuellen pandemischen Lage online statt und beginnt um 19.00 Uhr. \nDer Zoom-Link wurde bereits per Newsletter verschickt\, falls du noch nicht Mitglied bist und Interesse hast\, an unserer MV teilzunehmen\, kannst du dich per Mail an stadt@sp-luzern.ch melden.Die Traktanden findest du unten. \nWir freuen uns\, mit euch ins neue Jahr zu starten und hoffen\, bald wieder vor Ort mit euch anstossen zu können!
URL:https://sp-stadtluzern.ch/veranstaltung/mitgliederversammlung-sp-stadt-luzern-17/
END:VEVENT
END:VCALENDAR