BEGIN:VCALENDAR
VERSION:2.0
PRODID:-//SP Stadt Luzern - ECPv6.15.20//NONSGML v1.0//EN
CALSCALE:GREGORIAN
METHOD:PUBLISH
X-WR-CALNAME:SP Stadt Luzern
X-ORIGINAL-URL:https://sp-stadtluzern.ch
X-WR-CALDESC:Veranstaltungen im SP Stadt Luzern
REFRESH-INTERVAL;VALUE=DURATION:PT1H
X-Robots-Tag:noindex
X-PUBLISHED-TTL:PT1H
BEGIN:VTIMEZONE
TZID:Europe/Zurich
BEGIN:DAYLIGHT
TZOFFSETFROM:+0100
TZOFFSETTO:+0200
TZNAME:CEST
DTSTART:20210328T010000
END:DAYLIGHT
BEGIN:STANDARD
TZOFFSETFROM:+0200
TZOFFSETTO:+0100
TZNAME:CET
DTSTART:20211031T010000
END:STANDARD
BEGIN:DAYLIGHT
TZOFFSETFROM:+0100
TZOFFSETTO:+0200
TZNAME:CEST
DTSTART:20220327T010000
END:DAYLIGHT
BEGIN:STANDARD
TZOFFSETFROM:+0200
TZOFFSETTO:+0100
TZNAME:CET
DTSTART:20221030T010000
END:STANDARD
BEGIN:DAYLIGHT
TZOFFSETFROM:+0100
TZOFFSETTO:+0200
TZNAME:CEST
DTSTART:20230326T010000
END:DAYLIGHT
BEGIN:STANDARD
TZOFFSETFROM:+0200
TZOFFSETTO:+0100
TZNAME:CET
DTSTART:20231029T010000
END:STANDARD
END:VTIMEZONE
BEGIN:VEVENT
DTSTART;TZID=Europe/Zurich:20220411T170000
DTEND;TZID=Europe/Zurich:20220411T170000
DTSTAMP:20260420T165912
CREATED:20220324T132958Z
LAST-MODIFIED:20220324T132958Z
UID:88879-1649696400-1649696400@sp-stadtluzern.ch
SUMMARY:Kick-Off-Event Stadtratswahl 2024
DESCRIPTION:Der Blick zurück auf das Jubiläumsjahr 2021 zu 50-Jahren Frauenstimmrecht\, die Erinnerungen an den überwältigenden Frauenstreik 2019 oder der eindrucksvolle Erfolg mit der Pflegeinitiative zeigen: Zusammen kommen wir weit! Mit den städtischen Wahlen 2024 kommt die Chance\, einen weiteren Schritt zu gehen.  \nWir wollen mit einer Frau einen zweiten SP-Sitz im Stadtrat gewinnen. Wir wollen eine angemessene Vertretung von Frauen auf allen politischen Ebenen und den Durchbruch für eine sozialere und nachhaltigere Politik schaffen. \nDieses Ziel können wir erreichen. Mit einer überzeugenden Kandidatin und vielen Menschen\, die mit ihrer Unterstützung\, ihrer Mithilfe\, ihrem Engagement diesen Erfolg Stück für Stück möglich machen. \nDer erste Schritt zu diesem Erfolg ist unser Kick-off am 11. April 2022. \nWir laden alle Frauen der SP Stadt Luzern ein\, um 19.00 Uhr im Treibhaus mitzudenken\, zuzuhören\, sich auszutauschen\, Ideen zu haben\, sich beim Apéro kennen zu lernen und so in die Stadtratswahlen 2024 zu starten. \nIm Zentrum dieses Abends steht der Austausch mit zwei Frauen\, die diesen Weg bereits gegangen sind. Maria Pappa ist seit 2017 Stadträtin und seit November 2020 als erste Frau und erste Seconda Stadtpräsidentin von St. Gallen. Jolanda Achermann Sen ist seit 2013 Stadträtin und seit 2016 Stadtrats-Vizepräsidentin von Sursee. Zudem gibt es einen Ausblick auf die nächsten Schritte bis zur Stadtratswahl. \nHast du Lust\, einen spannenden Abend zu verbringen und dich über Politik und Frauen in der Politik auszutauschen? Überlegst du dir\, für die Wahlen 2024 zu kandidieren\, vielleicht sogar als Stadtratskandidatin? Komm doch vorbei – es wäre schön\, dich am Kick-Off begrüssen zu können. \nAnmelden kannst du dich unter diesem Link. \nWir freuen uns auf dich. \n  \nSolidarisch \n  \nEsther Burri\, Regula Roth-Koch\, Nesar Ahmad\, Daniel Furrer\, Claudio Soldati \nPersonalfindungskommission Stadtratswahlen 2024 für die SP Stadt Luzern \n  \nP.S. Fällt dir spontan jemand ein\, denn du mitnehmen würdest? \nKein Problem\, alle sind willkommen – egal welches Geschlecht und auch nicht-SP Mitglieder 😉 \n_______________  \nAnmeldeschluss ist der 1. April 2022. Du kannst dich über den QR-Code gleich anmelden\,oder du meldest dich per Mail an stadt@sp-luzern.ch
URL:https://sp-stadtluzern.ch/veranstaltung/kick-off-event-stadtratswahl-2024/
END:VEVENT
END:VCALENDAR