BEGIN:VCALENDAR
VERSION:2.0
PRODID:-//SP Stadt Luzern - ECPv6.15.20//NONSGML v1.0//EN
CALSCALE:GREGORIAN
METHOD:PUBLISH
X-WR-CALNAME:SP Stadt Luzern
X-ORIGINAL-URL:https://sp-stadtluzern.ch
X-WR-CALDESC:Veranstaltungen im SP Stadt Luzern
REFRESH-INTERVAL;VALUE=DURATION:PT1H
X-Robots-Tag:noindex
X-PUBLISHED-TTL:PT1H
BEGIN:VTIMEZONE
TZID:Europe/Zurich
BEGIN:DAYLIGHT
TZOFFSETFROM:+0100
TZOFFSETTO:+0200
TZNAME:CEST
DTSTART:20210328T010000
END:DAYLIGHT
BEGIN:STANDARD
TZOFFSETFROM:+0200
TZOFFSETTO:+0100
TZNAME:CET
DTSTART:20211031T010000
END:STANDARD
BEGIN:DAYLIGHT
TZOFFSETFROM:+0100
TZOFFSETTO:+0200
TZNAME:CEST
DTSTART:20220327T010000
END:DAYLIGHT
BEGIN:STANDARD
TZOFFSETFROM:+0200
TZOFFSETTO:+0100
TZNAME:CET
DTSTART:20221030T010000
END:STANDARD
BEGIN:DAYLIGHT
TZOFFSETFROM:+0100
TZOFFSETTO:+0200
TZNAME:CEST
DTSTART:20230326T010000
END:DAYLIGHT
BEGIN:STANDARD
TZOFFSETFROM:+0200
TZOFFSETTO:+0100
TZNAME:CET
DTSTART:20231029T010000
END:STANDARD
END:VTIMEZONE
BEGIN:VEVENT
DTSTART;TZID=Europe/Zurich:20220831T173000
DTEND;TZID=Europe/Zurich:20220831T173000
DTSTAMP:20260420T165941
CREATED:20220715T082932Z
LAST-MODIFIED:20220715T082932Z
UID:88884-1661967000-1661967000@sp-stadtluzern.ch
SUMMARY:Infoveranstaltung KRW 2023
DESCRIPTION:Am 2. April 2023 wählt der Kanton Luzern Parlament und Regierungfür die nächsten vier Jahre. Im Moment besteht die SP-Fraktion aus 19 Mitgliedern\, 7 davon wurden im Wahlkreis Luzern Stadt gewählt. \nWir brauchen 24 Kandidat*innen\, um unsere Hauptliste im Wahlkreis Luzern Stadt zu füllen. Dabei achten wir besonders auf das Kriterium der Diversität. Alle Geschlechter aber auch soziale und geografische Aspekte\, so wie Altersgruppen sollen gerecht auf der Liste vertreten sein. \nZusätzlich zu unserer Hauptliste\, wird es natürlich auch in der Stadt wieder eine Second@sPlus\, eine JusoPlus und eine SP60+ Liste geben.  \nJetzt brauchen wir DICH. \nKönntest du dir vorstellen für die SP Stadt Luzern zu kandidieren? Möchtest du erfahren\, welchen zeitlichen Aufwand ein Kantonsratsamt mit sich bringt?Bist du generell interessiert am Geschehen im Luzerner Kantonsparlament? \nAll diese Fragen werden hoffentlich im Rahmen unserer Infoveranstaltung am 31. August beantwortet!Um 19.30 Uhr treffen wir uns im HelloWelcome (Bundesstrasse 13\, 6003) zum spannenden Austausch. \nMit dabei sind SP-Kantonsrätin und ehemalige Sektions-Copräsidentin Simone Brunner und SP-Kantonsrat Michael Ledergerber.  \nWir freuen uns auf eure Fragen und spannende Gespräche. \nFür den Anlass brauchst du dich nicht anzumelden und natürlich musst du für die Teilnahme nicht per se an einer Kandidatur an den Kantonsratswahlen interessiert sein. Bei Fragen kannst du dich per Mail ans Sekretariat wenden (stadt@sp-luzern.ch) \nWir freuen uns auf dich!
URL:https://sp-stadtluzern.ch/veranstaltung/infoveranstaltung-krw-2023/
END:VEVENT
END:VCALENDAR