BEGIN:VCALENDAR
VERSION:2.0
PRODID:-//SP Stadt Luzern - ECPv6.15.20//NONSGML v1.0//EN
CALSCALE:GREGORIAN
METHOD:PUBLISH
X-WR-CALNAME:SP Stadt Luzern
X-ORIGINAL-URL:https://sp-stadtluzern.ch
X-WR-CALDESC:Veranstaltungen im SP Stadt Luzern
REFRESH-INTERVAL;VALUE=DURATION:PT1H
X-Robots-Tag:noindex
X-PUBLISHED-TTL:PT1H
BEGIN:VTIMEZONE
TZID:Europe/Zurich
BEGIN:DAYLIGHT
TZOFFSETFROM:+0100
TZOFFSETTO:+0200
TZNAME:CEST
DTSTART:20180325T010000
END:DAYLIGHT
BEGIN:STANDARD
TZOFFSETFROM:+0200
TZOFFSETTO:+0100
TZNAME:CET
DTSTART:20181028T010000
END:STANDARD
BEGIN:DAYLIGHT
TZOFFSETFROM:+0100
TZOFFSETTO:+0200
TZNAME:CEST
DTSTART:20190331T010000
END:DAYLIGHT
BEGIN:STANDARD
TZOFFSETFROM:+0200
TZOFFSETTO:+0100
TZNAME:CET
DTSTART:20191027T010000
END:STANDARD
BEGIN:DAYLIGHT
TZOFFSETFROM:+0100
TZOFFSETTO:+0200
TZNAME:CEST
DTSTART:20200329T010000
END:DAYLIGHT
BEGIN:STANDARD
TZOFFSETFROM:+0200
TZOFFSETTO:+0100
TZNAME:CET
DTSTART:20201025T010000
END:STANDARD
END:VTIMEZONE
BEGIN:VEVENT
DTSTART;TZID=Europe/Zurich:20191114T171500
DTEND;TZID=Europe/Zurich:20191114T171500
DTSTAMP:20260420T165853
CREATED:20191112T165354Z
LAST-MODIFIED:20191112T165354Z
UID:88824-1573751700-1573751700@sp-stadtluzern.ch
SUMMARY:Informations-Anlass: Grossstadtratswahlen 2020
DESCRIPTION:Am Donnerstag\, 14. November 2019 führen wir um 18.15 Uhr im Contenti (Gibraltarstrasse 14\, 6003 Luzern) einen Informations-Anlass für interessierte Grossstadtrats-Kandidat*innen durch. Das Ziel des Anlasses ist es\, in lockerem Rahmen alle offenen Fragen rund um eine allfällige Kandidatur\, den Wahlkampf und die Arbeit als Grossstadtrat/ Grossstadträtin zu klären.Im Anschluss offeriert die SP einen kleinen Apéro. \nProgramm: \n\nGrusswort durch SP-Stadtpräsident Beat Züsli\nWord-Café mit amtierenden Parlametarier*innen und SP-Stadtratskandidatin Judith Dörflinger zu folgenden Themen: Aktuelle Politische Themen in der Stadt Luzern\, Arbeit als Parlamentarier*in\, Wahlkampf und Basiswahlkampf\nKleiner Apéro und gemeinsamer Austausch
URL:https://sp-stadtluzern.ch/veranstaltung/informations-anlass-grossstadtratswahlen-2020/
END:VEVENT
END:VCALENDAR