BEGIN:VCALENDAR
VERSION:2.0
PRODID:-//SP Stadt Luzern - ECPv6.15.20//NONSGML v1.0//EN
CALSCALE:GREGORIAN
METHOD:PUBLISH
X-WR-CALNAME:SP Stadt Luzern
X-ORIGINAL-URL:https://sp-stadtluzern.ch
X-WR-CALDESC:Veranstaltungen im SP Stadt Luzern
REFRESH-INTERVAL;VALUE=DURATION:PT1H
X-Robots-Tag:noindex
X-PUBLISHED-TTL:PT1H
BEGIN:VTIMEZONE
TZID:Europe/Zurich
BEGIN:DAYLIGHT
TZOFFSETFROM:+0100
TZOFFSETTO:+0200
TZNAME:CEST
DTSTART:20210328T010000
END:DAYLIGHT
BEGIN:STANDARD
TZOFFSETFROM:+0200
TZOFFSETTO:+0100
TZNAME:CET
DTSTART:20211031T010000
END:STANDARD
BEGIN:DAYLIGHT
TZOFFSETFROM:+0100
TZOFFSETTO:+0200
TZNAME:CEST
DTSTART:20220327T010000
END:DAYLIGHT
BEGIN:STANDARD
TZOFFSETFROM:+0200
TZOFFSETTO:+0100
TZNAME:CET
DTSTART:20221030T010000
END:STANDARD
BEGIN:DAYLIGHT
TZOFFSETFROM:+0100
TZOFFSETTO:+0200
TZNAME:CEST
DTSTART:20230326T010000
END:DAYLIGHT
BEGIN:STANDARD
TZOFFSETFROM:+0200
TZOFFSETTO:+0100
TZNAME:CET
DTSTART:20231029T010000
END:STANDARD
END:VTIMEZONE
BEGIN:VEVENT
DTSTART;TZID=Europe/Zurich:20220901T170000
DTEND;TZID=Europe/Zurich:20220901T200000
DTSTAMP:20260420T165940
CREATED:20220822T110025Z
LAST-MODIFIED:20220822T110025Z
UID:88887-1662051600-1662062400@sp-stadtluzern.ch
SUMMARY:Gründung SP queer (SP Kanton Luzern)
DESCRIPTION:Bald ist es so weit: die SP queer Kanton Luzern wird gegründet! \nWir treffen uns am 1. September 2022 um 19.00 Uhr im Parterre Luzern. \nMit dabei sind SP-Nationalrätin Tamara Funiciello und Drag Queen Mona Gamie. \nWir freuen uns auf euch!
URL:https://sp-stadtluzern.ch/veranstaltung/gruendung-sp-queer-sp-kanton-luzern/
END:VEVENT
END:VCALENDAR