BEGIN:VCALENDAR
VERSION:2.0
PRODID:-//SP Stadt Luzern - ECPv6.15.20//NONSGML v1.0//EN
CALSCALE:GREGORIAN
METHOD:PUBLISH
X-WR-CALNAME:SP Stadt Luzern
X-ORIGINAL-URL:https://sp-stadtluzern.ch
X-WR-CALDESC:Veranstaltungen im SP Stadt Luzern
REFRESH-INTERVAL;VALUE=DURATION:PT1H
X-Robots-Tag:noindex
X-PUBLISHED-TTL:PT1H
BEGIN:VTIMEZONE
TZID:Europe/Zurich
BEGIN:DAYLIGHT
TZOFFSETFROM:+0100
TZOFFSETTO:+0200
TZNAME:CEST
DTSTART:20210328T010000
END:DAYLIGHT
BEGIN:STANDARD
TZOFFSETFROM:+0200
TZOFFSETTO:+0100
TZNAME:CET
DTSTART:20211031T010000
END:STANDARD
BEGIN:DAYLIGHT
TZOFFSETFROM:+0100
TZOFFSETTO:+0200
TZNAME:CEST
DTSTART:20220327T010000
END:DAYLIGHT
BEGIN:STANDARD
TZOFFSETFROM:+0200
TZOFFSETTO:+0100
TZNAME:CET
DTSTART:20221030T010000
END:STANDARD
BEGIN:DAYLIGHT
TZOFFSETFROM:+0100
TZOFFSETTO:+0200
TZNAME:CEST
DTSTART:20230326T010000
END:DAYLIGHT
BEGIN:STANDARD
TZOFFSETFROM:+0200
TZOFFSETTO:+0100
TZNAME:CET
DTSTART:20231029T010000
END:STANDARD
END:VTIMEZONE
BEGIN:VEVENT
DTSTART;TZID=Europe/Zurich:20220401T170000
DTEND;TZID=Europe/Zurich:20220401T170000
DTSTAMP:20260420T165940
CREATED:20211028T121623Z
LAST-MODIFIED:20211028T121623Z
UID:88868-1648832400-1648832400@sp-stadtluzern.ch
SUMMARY:Generalversammlung SP Stadt Luzern
DESCRIPTION:Unsere Generalversammlung findet dieses Jahr im Laboratorium Luzern (Sternmattstr. 3\, 6005) statt. \nEingeladen sind all unsere Mitglieder\, natürlich aber auch Interessierte! \nDie Veranstaltung beginnt um 19.00 Uhr\, das Begleitheft mit den Traktanden findest du unten verlinkt. \nWir freuen uns\, euch endlich wieder vor Ort begrüssen zu können und lassen die GV natürlich mit einem Apéro ausklingen. \nBei Fragen kannst du dich per Mail ans Sekretariat(stadt@sp-luzern.ch) melden. \nBis bald!
URL:https://sp-stadtluzern.ch/veranstaltung/generalversammlung-sp-stadt-luzern-4/
END:VEVENT
END:VCALENDAR