BEGIN:VCALENDAR
VERSION:2.0
PRODID:-//SP Stadt Luzern - ECPv6.15.20//NONSGML v1.0//EN
CALSCALE:GREGORIAN
METHOD:PUBLISH
X-WR-CALNAME:SP Stadt Luzern
X-ORIGINAL-URL:https://sp-stadtluzern.ch
X-WR-CALDESC:Veranstaltungen im SP Stadt Luzern
REFRESH-INTERVAL;VALUE=DURATION:PT1H
X-Robots-Tag:noindex
X-PUBLISHED-TTL:PT1H
BEGIN:VTIMEZONE
TZID:Europe/Zurich
BEGIN:DAYLIGHT
TZOFFSETFROM:+0100
TZOFFSETTO:+0200
TZNAME:CEST
DTSTART:20190331T010000
END:DAYLIGHT
BEGIN:STANDARD
TZOFFSETFROM:+0200
TZOFFSETTO:+0100
TZNAME:CET
DTSTART:20191027T010000
END:STANDARD
BEGIN:DAYLIGHT
TZOFFSETFROM:+0100
TZOFFSETTO:+0200
TZNAME:CEST
DTSTART:20200329T010000
END:DAYLIGHT
BEGIN:STANDARD
TZOFFSETFROM:+0200
TZOFFSETTO:+0100
TZNAME:CET
DTSTART:20201025T010000
END:STANDARD
BEGIN:DAYLIGHT
TZOFFSETFROM:+0100
TZOFFSETTO:+0200
TZNAME:CEST
DTSTART:20210328T010000
END:DAYLIGHT
BEGIN:STANDARD
TZOFFSETFROM:+0200
TZOFFSETTO:+0100
TZNAME:CET
DTSTART:20211031T010000
END:STANDARD
END:VTIMEZONE
BEGIN:VEVENT
DTSTART;TZID=Europe/Zurich:20200822T170000
DTEND;TZID=Europe/Zurich:20200822T210000
DTSTAMP:20260420T165940
CREATED:20200619T085737Z
LAST-MODIFIED:20200619T085737Z
UID:88846-1598115600-1598130000@sp-stadtluzern.ch
SUMMARY:Generalversammlung SP Stadt Luzern
DESCRIPTION:Endlich ist es soweit: Die Generalversammlung der SP Stadt Luzern findet statt. Wenn auch etwas ungewohnter Form. Da aber die Wahlen und Abstimmungen bereits im Voraus abgewickelt wurden\, können wir uns auf den festlichen Teil fokussieren! \nAm Samstag\, 22. August\, treffen wir uns im MaiHof Luzern. Neben der Verkündung der Abstimmungs- und Wahlresultate\, werden wir gemeinsam das vergangene spannende und intensive Jahr feiern. \nDabei wird Ylfete Fanaj\, als Kantonsratspräsidentin höchste Luzernerin und Mitglied unserer Sektion\,  einige Worte an uns richten. \nZudem haben wir die Gelegenheit\, den abtretenden GL-Mitgliedern und unserem scheidenden Präsidenten einen gebührenden Abschied zu bieten. \nAusserdem wird es zum Kick-Off der Kampagne zur Abstimmung vom 27. September über unsere Initiative “Spange Nord Stoppen!” kommen. \nSeid ihr dabei? Dann meldet euch bitte hier an. \nWir freuen uns auf zahlreiches erscheinen – und anschliessend beim Apéro mit euch anzustossen! \n***Corona-Info:– Um das Contact Tracing zu ermöglichen\, müssen wir von allen Teilnehmenden die Kontaktdaten aufnehmen. Wenn ihr an der GV teilnehmt\, meldet euch bitte über das Formular an (https://docs.google.com/forms/d/e/1FAIpQLSc90pLukMdjJa7BZELI5anXsRvFnGvtpFrDNGfLHOdNXRtKUg/viewform?usp=sf_link). So haben wir die Daten bereits im Voraus und müssen diese vor Ort nicht mehr aufnehmen.– Es werden Hygienemasken und Desinfektionsmittel zur Verfügung stehen.– Für die Genoss*innen\, die nicht an der GV teilnehmen können\, wird ein Livestream eingerichtet. Infos dazu folgen.***
URL:https://sp-stadtluzern.ch/veranstaltung/generalversammlung-sp-stadt-luzern-3/
END:VEVENT
END:VCALENDAR