BEGIN:VCALENDAR
VERSION:2.0
PRODID:-//SP Stadt Luzern - ECPv6.15.20//NONSGML v1.0//EN
CALSCALE:GREGORIAN
METHOD:PUBLISH
X-WR-CALNAME:SP Stadt Luzern
X-ORIGINAL-URL:https://sp-stadtluzern.ch
X-WR-CALDESC:Veranstaltungen im SP Stadt Luzern
REFRESH-INTERVAL;VALUE=DURATION:PT1H
X-Robots-Tag:noindex
X-PUBLISHED-TTL:PT1H
BEGIN:VTIMEZONE
TZID:Europe/Zurich
BEGIN:DAYLIGHT
TZOFFSETFROM:+0100
TZOFFSETTO:+0200
TZNAME:CEST
DTSTART:20220327T010000
END:DAYLIGHT
BEGIN:STANDARD
TZOFFSETFROM:+0200
TZOFFSETTO:+0100
TZNAME:CET
DTSTART:20221030T010000
END:STANDARD
BEGIN:DAYLIGHT
TZOFFSETFROM:+0100
TZOFFSETTO:+0200
TZNAME:CEST
DTSTART:20230326T010000
END:DAYLIGHT
BEGIN:STANDARD
TZOFFSETFROM:+0200
TZOFFSETTO:+0100
TZNAME:CET
DTSTART:20231029T010000
END:STANDARD
BEGIN:DAYLIGHT
TZOFFSETFROM:+0100
TZOFFSETTO:+0200
TZNAME:CEST
DTSTART:20240331T010000
END:DAYLIGHT
BEGIN:STANDARD
TZOFFSETFROM:+0200
TZOFFSETTO:+0100
TZNAME:CET
DTSTART:20241027T010000
END:STANDARD
END:VTIMEZONE
BEGIN:VEVENT
DTSTART;TZID=Europe/Zurich:20230208T173000
DTEND;TZID=Europe/Zurich:20230208T173000
DTSTAMP:20260420T170110
CREATED:20230131T133247Z
LAST-MODIFIED:20230131T133247Z
UID:88900-1675877400-1675877400@sp-stadtluzern.ch
SUMMARY:Filmvorführung: WELCOME VENICE von Andrea Segre\, im Stattkino
DESCRIPTION:Die Brüder Pietro und Alvise sind sich uneins: Weiterhin die traditionelle\, aber defizitäre Krabbenfischerei betreiben oder aus ihrer Liegenschaft in Venedig eine Airbnb-Unterkunft machen? Entwurzelung\, Zukunftsängste\, finanzielle Gelüste\, Druck auf Einheimische – der zunehmende Einfluss des globalen Tourismus verändert die Beziehungen zwischen der Stadt und ihren Bewohner:innen. \nTrailer: https://www.youtube.com/watch?v=5t5KMeBKAus
URL:https://sp-stadtluzern.ch/veranstaltung/filmvorfuehrung-welcome-venice-von-andrea-segre-im-stattkino/
END:VEVENT
END:VCALENDAR