BEGIN:VCALENDAR
VERSION:2.0
PRODID:-//SP Stadt Luzern - ECPv6.15.20//NONSGML v1.0//EN
CALSCALE:GREGORIAN
METHOD:PUBLISH
X-WR-CALNAME:SP Stadt Luzern
X-ORIGINAL-URL:https://sp-stadtluzern.ch
X-WR-CALDESC:Veranstaltungen im SP Stadt Luzern
REFRESH-INTERVAL;VALUE=DURATION:PT1H
X-Robots-Tag:noindex
X-PUBLISHED-TTL:PT1H
BEGIN:VTIMEZONE
TZID:Europe/Zurich
BEGIN:DAYLIGHT
TZOFFSETFROM:+0100
TZOFFSETTO:+0200
TZNAME:CEST
DTSTART:20190331T010000
END:DAYLIGHT
BEGIN:STANDARD
TZOFFSETFROM:+0200
TZOFFSETTO:+0100
TZNAME:CET
DTSTART:20191027T010000
END:STANDARD
BEGIN:DAYLIGHT
TZOFFSETFROM:+0100
TZOFFSETTO:+0200
TZNAME:CEST
DTSTART:20200329T010000
END:DAYLIGHT
BEGIN:STANDARD
TZOFFSETFROM:+0200
TZOFFSETTO:+0100
TZNAME:CET
DTSTART:20201025T010000
END:STANDARD
BEGIN:DAYLIGHT
TZOFFSETFROM:+0100
TZOFFSETTO:+0200
TZNAME:CEST
DTSTART:20210328T010000
END:DAYLIGHT
BEGIN:STANDARD
TZOFFSETFROM:+0200
TZOFFSETTO:+0100
TZNAME:CET
DTSTART:20211031T010000
END:STANDARD
END:VTIMEZONE
BEGIN:VEVENT
DTSTART;TZID=Europe/Zurich:20200106T050000
DTEND;TZID=Europe/Zurich:20200107T073000
DTSTAMP:20260420T183922
CREATED:20191128T074400Z
LAST-MODIFIED:20191128T074400Z
UID:88825-1578286800-1578382200@sp-stadtluzern.ch
SUMMARY:Drei Königs Pendler*innen-Aktion
DESCRIPTION:Wir verteilen am Bahnhof Drei-Königs Küchlein an die Pendler*innen. \nTreffpunkt ist um 6 Uhr am Morgen vor der Hauptpost beim Bahnhof.
URL:https://sp-stadtluzern.ch/veranstaltung/drei-koenigs-pendlerinnen-aktion/
END:VEVENT
END:VCALENDAR