BEGIN:VCALENDAR
VERSION:2.0
PRODID:-//SP Stadt Luzern - ECPv6.15.20//NONSGML v1.0//EN
CALSCALE:GREGORIAN
METHOD:PUBLISH
X-WR-CALNAME:SP Stadt Luzern
X-ORIGINAL-URL:https://sp-stadtluzern.ch
X-WR-CALDESC:Veranstaltungen im SP Stadt Luzern
REFRESH-INTERVAL;VALUE=DURATION:PT1H
X-Robots-Tag:noindex
X-PUBLISHED-TTL:PT1H
BEGIN:VTIMEZONE
TZID:Europe/Zurich
BEGIN:DAYLIGHT
TZOFFSETFROM:+0100
TZOFFSETTO:+0200
TZNAME:CEST
DTSTART:20160327T010000
END:DAYLIGHT
BEGIN:STANDARD
TZOFFSETFROM:+0200
TZOFFSETTO:+0100
TZNAME:CET
DTSTART:20161030T010000
END:STANDARD
BEGIN:DAYLIGHT
TZOFFSETFROM:+0100
TZOFFSETTO:+0200
TZNAME:CEST
DTSTART:20170326T010000
END:DAYLIGHT
BEGIN:STANDARD
TZOFFSETFROM:+0200
TZOFFSETTO:+0100
TZNAME:CET
DTSTART:20171029T010000
END:STANDARD
BEGIN:DAYLIGHT
TZOFFSETFROM:+0100
TZOFFSETTO:+0200
TZNAME:CEST
DTSTART:20180325T010000
END:DAYLIGHT
BEGIN:STANDARD
TZOFFSETFROM:+0200
TZOFFSETTO:+0100
TZNAME:CET
DTSTART:20181028T010000
END:STANDARD
END:VTIMEZONE
BEGIN:VEVENT
DTSTART;TZID=Europe/Zurich:20170907T163000
DTEND;TZID=Europe/Zurich:20170907T163000
DTSTAMP:20260420T183101
CREATED:20170828T055637Z
LAST-MODIFIED:20170828T055637Z
UID:88767-1504801800-1504801800@sp-stadtluzern.ch
SUMMARY:Donnschtigsbier
DESCRIPTION:Das Donnschtigsbier gibt allen SP-Mitgliedern die Möglichkeit ihre Gedanken und Ideen einzubringen\, mit anderen zu diskutieren und UnterstützerInnen für neue Ideen zu finden. All dies geschieht in einem lockeren und informellen Rahmen. Das Donnschtigsbier ist\, was du daraus machst! \nFührung durch die Brauerei Luzern AG \nZurück aus der Sommerpause\, ermöglicht uns Marco Niederberger\, SP Mitglied und Mitarbeiter des Staatsarchivs\, einen spannenden Ausflug in die Brauerei Luzern AG. Für die elfte Durchführung treffen wir uns am Donnerstag\, 7. September 2017\, um 18.30 bei Luzerner Bier\, an der Bürgenstrasse 16 in Luzern. Die Führung beginnt um 19.00 und dauert ca. 2 Stunden. Anschliessend an die Führung findet eine kleine Degustation statt. Pro Person berechnen wir einen Unkostenbeitrag von 20.-. Wir freuen uns auf zahlreiches Erscheinen und einen angeregten Abend!
URL:https://sp-stadtluzern.ch/veranstaltung/donnschtigsbier/
END:VEVENT
END:VCALENDAR