BEGIN:VCALENDAR
VERSION:2.0
PRODID:-//SP Stadt Luzern - ECPv6.15.20//NONSGML v1.0//EN
CALSCALE:GREGORIAN
METHOD:PUBLISH
X-WR-CALNAME:SP Stadt Luzern
X-ORIGINAL-URL:https://sp-stadtluzern.ch
X-WR-CALDESC:Veranstaltungen im SP Stadt Luzern
REFRESH-INTERVAL;VALUE=DURATION:PT1H
X-Robots-Tag:noindex
X-PUBLISHED-TTL:PT1H
BEGIN:VTIMEZONE
TZID:Europe/Zurich
BEGIN:DAYLIGHT
TZOFFSETFROM:+0100
TZOFFSETTO:+0200
TZNAME:CEST
DTSTART:20160327T010000
END:DAYLIGHT
BEGIN:STANDARD
TZOFFSETFROM:+0200
TZOFFSETTO:+0100
TZNAME:CET
DTSTART:20161030T010000
END:STANDARD
BEGIN:DAYLIGHT
TZOFFSETFROM:+0100
TZOFFSETTO:+0200
TZNAME:CEST
DTSTART:20170326T010000
END:DAYLIGHT
BEGIN:STANDARD
TZOFFSETFROM:+0200
TZOFFSETTO:+0100
TZNAME:CET
DTSTART:20171029T010000
END:STANDARD
BEGIN:DAYLIGHT
TZOFFSETFROM:+0100
TZOFFSETTO:+0200
TZNAME:CEST
DTSTART:20180325T010000
END:DAYLIGHT
BEGIN:STANDARD
TZOFFSETFROM:+0200
TZOFFSETTO:+0100
TZNAME:CET
DTSTART:20181028T010000
END:STANDARD
END:VTIMEZONE
BEGIN:VEVENT
DTSTART;TZID=Europe/Zurich:20171005T170000
DTEND;TZID=Europe/Zurich:20171005T170000
DTSTAMP:20260420T183230
CREATED:20170828T055744Z
LAST-MODIFIED:20170828T055744Z
UID:88768-1507222800-1507222800@sp-stadtluzern.ch
SUMMARY:Donnschtigsbier
DESCRIPTION:Das Donnschtigsbier gibt allen SP-Mitgliedern die Möglichkeit ihre Gedanken und Ideen einzubringen\, mit anderen zu diskutieren und UnterstützerInnen für neue Ideen zu finden. All dies geschieht in einem lockeren und informellen Rahmen. Das Donnschtigsbier ist\, was du daraus machst!
URL:https://sp-stadtluzern.ch/veranstaltung/donnschtigsbier-2/
END:VEVENT
END:VCALENDAR