BEGIN:VCALENDAR
VERSION:2.0
PRODID:-//SP Stadt Luzern - ECPv6.15.20//NONSGML v1.0//EN
CALSCALE:GREGORIAN
METHOD:PUBLISH
X-WR-CALNAME:SP Stadt Luzern
X-ORIGINAL-URL:https://sp-stadtluzern.ch
X-WR-CALDESC:Veranstaltungen im SP Stadt Luzern
REFRESH-INTERVAL;VALUE=DURATION:PT1H
X-Robots-Tag:noindex
X-PUBLISHED-TTL:PT1H
BEGIN:VTIMEZONE
TZID:Europe/Zurich
BEGIN:DAYLIGHT
TZOFFSETFROM:+0100
TZOFFSETTO:+0200
TZNAME:CEST
DTSTART:20190331T010000
END:DAYLIGHT
BEGIN:STANDARD
TZOFFSETFROM:+0200
TZOFFSETTO:+0100
TZNAME:CET
DTSTART:20191027T010000
END:STANDARD
BEGIN:DAYLIGHT
TZOFFSETFROM:+0100
TZOFFSETTO:+0200
TZNAME:CEST
DTSTART:20200329T010000
END:DAYLIGHT
BEGIN:STANDARD
TZOFFSETFROM:+0200
TZOFFSETTO:+0100
TZNAME:CET
DTSTART:20201025T010000
END:STANDARD
BEGIN:DAYLIGHT
TZOFFSETFROM:+0100
TZOFFSETTO:+0200
TZNAME:CEST
DTSTART:20210328T010000
END:DAYLIGHT
BEGIN:STANDARD
TZOFFSETFROM:+0200
TZOFFSETTO:+0100
TZNAME:CET
DTSTART:20211031T010000
END:STANDARD
END:VTIMEZONE
BEGIN:VEVENT
DTSTART;TZID=Europe/Zurich:20201112T183000
DTEND;TZID=Europe/Zurich:20201112T200000
DTSTAMP:20260420T170110
CREATED:20201105T060304Z
LAST-MODIFIED:20201105T060304Z
UID:88849-1605205800-1605211200@sp-stadtluzern.ch
SUMMARY:Digitales Podium: Warum braucht es mehr gemeinnützige Wohnungen in Luzern?
DESCRIPTION:«Warum braucht es mehr gemeinnützige Wohnungen in Luzern?» – Digitales Podium zur Abstimmung über die Würzenbachmatte. \nAm 29. November stimmen wir in der Stadt Luzern über die Teilrevision der Bau- und Zonenordnung (BZO) ab. Ein Aspekt der BZO kommt gesondert zur Abstimmung: Die Würzenbachmatte. Die SP\, JUSO\, Grünen\, Jungen Grünen und der Mieterinnen- und Mieterverband stellen sich gegen dieses Projekt. Sie beziehen sich dabei auf die Nachfrage nach gemeinnützigem Wohnraum und argumentieren\, dass die Stadt diesen fördern muss. Die Befürworter*innen jedoch betonen\, dass preisgünstige Wohnungen geplant seien. Warum genügt dies nicht und weshalb braucht die Stadt Luzern mehr gemeinnützigen Wohnraum? Diese Fragen werden am Podium zur Abstimmung geklärt. \nDie Gegner*innen dieses Projekts werden vertreten durch:– Mirjam Landwehr\, Grossstadträtin Grüne– Mario Stübi\, Vorstand Mieterinnen und Mieterverband und Grossstadtrat SP \nAuf der Seite der Befürworter*innen stehen: – Rieska Dommann\, Grossstadtrat FDP – Marlene Odermatt\, Präsidentin Reformierte Kirche Luzern \nModeration:Lea Inderbitzin\, Radio 3FACH \nLink zum Podium: http://www.bit.do/debatte-bzo
URL:https://sp-stadtluzern.ch/veranstaltung/digitales-podium-warum-braucht-es-mehr-gemeinnuetzige-wohnungen-in-luzern/
END:VEVENT
END:VCALENDAR