BEGIN:VCALENDAR
VERSION:2.0
PRODID:-//SP Stadt Luzern - ECPv6.15.20//NONSGML v1.0//EN
CALSCALE:GREGORIAN
METHOD:PUBLISH
X-WR-CALNAME:SP Stadt Luzern
X-ORIGINAL-URL:https://sp-stadtluzern.ch
X-WR-CALDESC:Veranstaltungen im SP Stadt Luzern
REFRESH-INTERVAL;VALUE=DURATION:PT1H
X-Robots-Tag:noindex
X-PUBLISHED-TTL:PT1H
BEGIN:VTIMEZONE
TZID:Europe/Zurich
BEGIN:DAYLIGHT
TZOFFSETFROM:+0100
TZOFFSETTO:+0200
TZNAME:CEST
DTSTART:20190331T010000
END:DAYLIGHT
BEGIN:STANDARD
TZOFFSETFROM:+0200
TZOFFSETTO:+0100
TZNAME:CET
DTSTART:20191027T010000
END:STANDARD
BEGIN:DAYLIGHT
TZOFFSETFROM:+0100
TZOFFSETTO:+0200
TZNAME:CEST
DTSTART:20200329T010000
END:DAYLIGHT
BEGIN:STANDARD
TZOFFSETFROM:+0200
TZOFFSETTO:+0100
TZNAME:CET
DTSTART:20201025T010000
END:STANDARD
BEGIN:DAYLIGHT
TZOFFSETFROM:+0100
TZOFFSETTO:+0200
TZNAME:CEST
DTSTART:20210328T010000
END:DAYLIGHT
BEGIN:STANDARD
TZOFFSETFROM:+0200
TZOFFSETTO:+0100
TZNAME:CET
DTSTART:20211031T010000
END:STANDARD
END:VTIMEZONE
BEGIN:VEVENT
DTSTART;TZID=Europe/Zurich:20200429T173000
DTEND;TZID=Europe/Zurich:20200429T173000
DTSTAMP:20260420T165733
CREATED:20200424T141848Z
LAST-MODIFIED:20200424T141848Z
UID:88844-1588181400-1588181400@sp-stadtluzern.ch
SUMMARY:Digitale Mitgliederversammlung
DESCRIPTION:Am Mittwoch\, 29. April 2020\, führen wir eine digitale Mitgliederversammlung durch. Dazuschalten kann man sich ab 19:15 Uhr. \nDie Versammlung wird rund eine Stunde dauern und fällt keine Entscheide. \nÜber folgenden Link kann man an der Versammlung teilnehmen: https://us02web.zoom.us/j/89379569753
URL:https://sp-stadtluzern.ch/veranstaltung/digitale-mitgliederversammlung/
END:VEVENT
END:VCALENDAR