BEGIN:VCALENDAR
VERSION:2.0
PRODID:-//SP Stadt Luzern - ECPv6.15.20//NONSGML v1.0//EN
CALSCALE:GREGORIAN
METHOD:PUBLISH
X-WR-CALNAME:SP Stadt Luzern
X-ORIGINAL-URL:https://sp-stadtluzern.ch
X-WR-CALDESC:Veranstaltungen im SP Stadt Luzern
REFRESH-INTERVAL;VALUE=DURATION:PT1H
X-Robots-Tag:noindex
X-PUBLISHED-TTL:PT1H
BEGIN:VTIMEZONE
TZID:Europe/Zurich
BEGIN:DAYLIGHT
TZOFFSETFROM:+0100
TZOFFSETTO:+0200
TZNAME:CEST
DTSTART:20190331T010000
END:DAYLIGHT
BEGIN:STANDARD
TZOFFSETFROM:+0200
TZOFFSETTO:+0100
TZNAME:CET
DTSTART:20191027T010000
END:STANDARD
BEGIN:DAYLIGHT
TZOFFSETFROM:+0100
TZOFFSETTO:+0200
TZNAME:CEST
DTSTART:20200329T010000
END:DAYLIGHT
BEGIN:STANDARD
TZOFFSETFROM:+0200
TZOFFSETTO:+0100
TZNAME:CET
DTSTART:20201025T010000
END:STANDARD
BEGIN:DAYLIGHT
TZOFFSETFROM:+0100
TZOFFSETTO:+0200
TZNAME:CEST
DTSTART:20210328T010000
END:DAYLIGHT
BEGIN:STANDARD
TZOFFSETFROM:+0200
TZOFFSETTO:+0100
TZNAME:CET
DTSTART:20211031T010000
END:STANDARD
END:VTIMEZONE
BEGIN:VEVENT
DTSTART;TZID=Europe/Zurich:20200209T074500
DTEND;TZID=Europe/Zurich:20200209T074500
DTSTAMP:20260420T165740
CREATED:20191128T074949Z
LAST-MODIFIED:20191128T074949Z
UID:88828-1581234300-1581234300@sp-stadtluzern.ch
SUMMARY:Abstimmungs-Sonntag
DESCRIPTION:Ja zum Verbot der Diskriminierung aufgrund der sexuellen Orientierung \nJa zur Initiative “Mehr bezahlbare Wohnungen” \nNein zur Metroinitiative
URL:https://sp-stadtluzern.ch/veranstaltung/abstimmungs-sonntag/
END:VEVENT
END:VCALENDAR