BEGIN:VCALENDAR
VERSION:2.0
PRODID:-//SP Stadt Luzern - ECPv6.15.20//NONSGML v1.0//EN
CALSCALE:GREGORIAN
METHOD:PUBLISH
X-WR-CALNAME:SP Stadt Luzern
X-ORIGINAL-URL:https://sp-stadtluzern.ch
X-WR-CALDESC:Veranstaltungen im SP Stadt Luzern
REFRESH-INTERVAL;VALUE=DURATION:PT1H
X-Robots-Tag:noindex
X-PUBLISHED-TTL:PT1H
BEGIN:VTIMEZONE
TZID:Europe/Zurich
BEGIN:DAYLIGHT
TZOFFSETFROM:+0100
TZOFFSETTO:+0200
TZNAME:CEST
DTSTART:20200329T010000
END:DAYLIGHT
BEGIN:STANDARD
TZOFFSETFROM:+0200
TZOFFSETTO:+0100
TZNAME:CET
DTSTART:20201025T010000
END:STANDARD
BEGIN:DAYLIGHT
TZOFFSETFROM:+0100
TZOFFSETTO:+0200
TZNAME:CEST
DTSTART:20210328T010000
END:DAYLIGHT
BEGIN:STANDARD
TZOFFSETFROM:+0200
TZOFFSETTO:+0100
TZNAME:CET
DTSTART:20211031T010000
END:STANDARD
BEGIN:DAYLIGHT
TZOFFSETFROM:+0100
TZOFFSETTO:+0200
TZNAME:CEST
DTSTART:20220327T010000
END:DAYLIGHT
BEGIN:STANDARD
TZOFFSETFROM:+0200
TZOFFSETTO:+0100
TZNAME:CET
DTSTART:20221030T010000
END:STANDARD
END:VTIMEZONE
BEGIN:VEVENT
DTSTART;TZID=Europe/Zurich:20211028T173000
DTEND;TZID=Europe/Zurich:20211028T193000
DTSTAMP:20260420T183241
CREATED:20210129T161146Z
LAST-MODIFIED:20210129T161146Z
UID:88858-1635442200-1635449400@sp-stadtluzern.ch
SUMMARY:29. Donnschtigsbier
DESCRIPTION:Der Luzerner Stadt-Land-Graben: Wirklichkeit oder politische Polemik? \nDer angebliche Stadt-Land-Graben ist derzeit in aller Munde. Gerade in Luzern aber nicht erst\, seit die grösste Partei des Landes ihn zum Wahlkampfmotto erkoren hat. So hat etwa Regierungsrat Marcel Schwerzmann den Zusammenhalt zwischen Stadt und Land unabhängig davon als Credo für sein Amtsjahr als Regierungspräsident gewählt. \nJüngst wurde wiederholt betont\, dass es sich beim (Luzerner) Stadt-Land-Graben eigentlich um einen Links-Rechts-Graben handle. Doch alls dem tatsächlich so ist\, stellt sich natürlich die Frage\, ob gemeinsame Visionen und Lösungen innert nützlicher Frist (z.B. Klima) überhaupt möglich sind\, oder ob die Vorstellungen von Stadt und Land schlicht zu weit auseinander liegen. \nGleichzeitig lässt sich die These vom Links-Rechts-Graben aber auch hinterfragen. Weil auch wenn die Lebensentwürfe der einzelnen Menschen (nicht der Politiker:innen) in der Stadt und auf dem Land\, allenfalls verschieden sind\, muss das ja nicht zwingend heissen\, dass man bei den meisten Themen politisch völlig unterschiedlich denkt. \nFehlt vielleicht also eher das gegenseitige Verständnis\, obwohl man in einzelnen Lebensbereichen vielleicht sogar die gleichen Ziele hat? Und lässt sich den «einfachen» Bewohner:innen des Kantons folglich das links-rechts-Schema gleichermassen überstülpen\, wie es anscheinend im Parlament vorherrscht? \nOder konkreter gefragt: Warum sollen sich die Einwohner:innen eines Dorfes sich nicht besseren ÖV wünschen und vermehrt aufs Auto verzichten wollen? Zumal es Erhebungen gibt\, die dies vermuten lassen. Betrachtet man sozialpolitische Themen auf dem Land und in der Stadt wirklich fundamental anders? Auch dies ist fraglich\, da zum Beispiel das Thema gemeinnütziger/preiswerter Wohnraum offenbar auch auf dem Land wichtiger wird\, wie Beispiele aus der jungen Vergangenheit zeigen. \nUnd nicht zuletzt: Was kann die Linke/die Sozialdemokratie tun und besser machen\, damit die Menschen auf dem Land auch wirklich merken\, dass diese Parteien und Organisationen für viele ihrer Anliegen Lösungsansätze parat haben? \nDarüber möchten wir mit euch diskutieren. \nWir treffen uns am Donnerstag\, 28. Oktober\, ab 19:30 im Magdi(St. Magdalena) an der Eisengasse 5 in Luzern. \n 
URL:https://sp-stadtluzern.ch/veranstaltung/29-donnschtigsbier/
END:VEVENT
END:VCALENDAR