BEGIN:VCALENDAR
VERSION:2.0
PRODID:-//SP Stadt Luzern - ECPv6.15.20//NONSGML v1.0//EN
CALSCALE:GREGORIAN
METHOD:PUBLISH
X-WR-CALNAME:SP Stadt Luzern
X-ORIGINAL-URL:https://sp-stadtluzern.ch
X-WR-CALDESC:Veranstaltungen im SP Stadt Luzern
REFRESH-INTERVAL;VALUE=DURATION:PT1H
X-Robots-Tag:noindex
X-PUBLISHED-TTL:PT1H
BEGIN:VTIMEZONE
TZID:Europe/Zurich
BEGIN:DAYLIGHT
TZOFFSETFROM:+0100
TZOFFSETTO:+0200
TZNAME:CEST
DTSTART:20190331T010000
END:DAYLIGHT
BEGIN:STANDARD
TZOFFSETFROM:+0200
TZOFFSETTO:+0100
TZNAME:CET
DTSTART:20191027T010000
END:STANDARD
BEGIN:DAYLIGHT
TZOFFSETFROM:+0100
TZOFFSETTO:+0200
TZNAME:CEST
DTSTART:20200329T010000
END:DAYLIGHT
BEGIN:STANDARD
TZOFFSETFROM:+0200
TZOFFSETTO:+0100
TZNAME:CET
DTSTART:20201025T010000
END:STANDARD
BEGIN:DAYLIGHT
TZOFFSETFROM:+0100
TZOFFSETTO:+0200
TZNAME:CEST
DTSTART:20210328T010000
END:DAYLIGHT
BEGIN:STANDARD
TZOFFSETFROM:+0200
TZOFFSETTO:+0100
TZNAME:CET
DTSTART:20211031T010000
END:STANDARD
END:VTIMEZONE
BEGIN:VEVENT
DTSTART;TZID=Europe/Zurich:20200925T173000
DTEND;TZID=Europe/Zurich:20200925T173000
DTSTAMP:20260420T165853
CREATED:20200911T080159Z
LAST-MODIFIED:20200911T080159Z
UID:88848-1601055000-1601055000@sp-stadtluzern.ch
SUMMARY:29. Berner Suppe mit Prisca Birrer-Heimo
DESCRIPTION:29. BERNER SUPPE Nationalrätin Prisca Birrer-Heimoberichtet aus der Herbstsession des Parlamentes Mit offerierter SuppeAnmeldung bitte an info@sp-luzern.ch \nFreitag\, 25. September 2020\, 19.30 UhrCafé Sowieso\, Wesemlinrain 3a\, Luzern
URL:https://sp-stadtluzern.ch/veranstaltung/29-berner-suppe-mit-prisca-birrer-heimo/
END:VEVENT
END:VCALENDAR