BEGIN:VCALENDAR
VERSION:2.0
PRODID:-//SP Stadt Luzern - ECPv6.15.20//NONSGML v1.0//EN
CALSCALE:GREGORIAN
METHOD:PUBLISH
X-WR-CALNAME:SP Stadt Luzern
X-ORIGINAL-URL:https://sp-stadtluzern.ch
X-WR-CALDESC:Veranstaltungen im SP Stadt Luzern
REFRESH-INTERVAL;VALUE=DURATION:PT1H
X-Robots-Tag:noindex
X-PUBLISHED-TTL:PT1H
BEGIN:VTIMEZONE
TZID:Europe/Zurich
BEGIN:DAYLIGHT
TZOFFSETFROM:+0100
TZOFFSETTO:+0200
TZNAME:CEST
DTSTART:20190331T010000
END:DAYLIGHT
BEGIN:STANDARD
TZOFFSETFROM:+0200
TZOFFSETTO:+0100
TZNAME:CET
DTSTART:20191027T010000
END:STANDARD
BEGIN:DAYLIGHT
TZOFFSETFROM:+0100
TZOFFSETTO:+0200
TZNAME:CEST
DTSTART:20200329T010000
END:DAYLIGHT
BEGIN:STANDARD
TZOFFSETFROM:+0200
TZOFFSETTO:+0100
TZNAME:CET
DTSTART:20201025T010000
END:STANDARD
BEGIN:DAYLIGHT
TZOFFSETFROM:+0100
TZOFFSETTO:+0200
TZNAME:CEST
DTSTART:20210328T010000
END:DAYLIGHT
BEGIN:STANDARD
TZOFFSETFROM:+0200
TZOFFSETTO:+0100
TZNAME:CET
DTSTART:20211031T010000
END:STANDARD
END:VTIMEZONE
BEGIN:VEVENT
DTSTART;TZID=Europe/Zurich:20201015T170000
DTEND;TZID=Europe/Zurich:20201015T200000
DTSTAMP:20260420T170110
CREATED:20200120T140256Z
LAST-MODIFIED:20200120T140256Z
UID:88834-1602781200-1602792000@sp-stadtluzern.ch
SUMMARY:26. Donnschtigsbier: «Wie betrifft die Coronakrise die Luzerner Unternehmen?»
DESCRIPTION:Corona betrifft uns alle. Allerdings litten insbesondere viele Bereiche der Wirtschaft unter dem unmittelbar verhängten Lockdown und den damit verbundenen Geschäftsschliessungen. Es blieb kaum Zeit\, sich auf die besondere Situation vorzubereiten. Auch in Luzern wurden rasch Stimmen laut\, die vor den Folgen für fast alle Arten von Betrieben warnten.  \nDoch wie geht es den Luzerner Unternehmen fast auf den Tag genau 7 Monate nach dem Runterfahren des öffentlichen Lebens? Haben alle die ausserordentliche Situation überlebt\, oder gibt es Opfer der Coronakrise zu beklagen? Und wie sind die Aussichten für die kommenden Monate? Haben die Behörden richtig reagiert\, um die negativen Folgen für die Luzerner Kleinbetriebe abzufedern? Inwiefern braucht es ein weiteres Engagement der städtischen und kantonalen Behörden? \nDarüber möchten wir mit euch beim 26. Donnschtigsbier diskutieren. Dazu haben wir Daniel Furrer\, Verantwortlicher Politik beim Verband Luzerner Unternehmen\, eingeladen. Daniel war bis im Sommer SP-Grossstadtrat und präsidierte den Rat von Herbst 2018 bis Herbst 2019. \nDas 26. Donnschtigsbier findet am Donnerstag\, 15. Oktober\, statt und beginnt um 19:30 Uhr.  \nIn welchem Lokal diese Ausgabe des Donnschtigsbiers stattfinden wird\, wird spätestens kommenden Montag bekannt gegeben. Dies hängt davon ab\, wieviele Personen teilnehmen werden. \nBist du dabei? Dann melde dich möglichst bis am kommenden Montag per Mail an stadt@sp-luzern.ch oder über das Online-Formular (https://forms.gle/ivnxBfReoZk6umMCA) an. So können wir abschätzen\, mit wie vielen Personen wir rechnen dürfen. Vielen Dank! \nWir freuen uns auf zahlreiches Erscheinen. \nLukas und Claudio
URL:https://sp-stadtluzern.ch/veranstaltung/26-donnschtigsbier-wie-betrifft-die-coronakrise-die-luzerner-unternehmen/
END:VEVENT
END:VCALENDAR