BEGIN:VCALENDAR
VERSION:2.0
PRODID:-//SP Stadt Luzern - ECPv6.15.20//NONSGML v1.0//EN
CALSCALE:GREGORIAN
METHOD:PUBLISH
X-WR-CALNAME:SP Stadt Luzern
X-ORIGINAL-URL:https://sp-stadtluzern.ch
X-WR-CALDESC:Veranstaltungen im SP Stadt Luzern
REFRESH-INTERVAL;VALUE=DURATION:PT1H
X-Robots-Tag:noindex
X-PUBLISHED-TTL:PT1H
BEGIN:VTIMEZONE
TZID:Europe/Zurich
BEGIN:DAYLIGHT
TZOFFSETFROM:+0100
TZOFFSETTO:+0200
TZNAME:CEST
DTSTART:20180325T010000
END:DAYLIGHT
BEGIN:STANDARD
TZOFFSETFROM:+0200
TZOFFSETTO:+0100
TZNAME:CET
DTSTART:20181028T010000
END:STANDARD
BEGIN:DAYLIGHT
TZOFFSETFROM:+0100
TZOFFSETTO:+0200
TZNAME:CEST
DTSTART:20190331T010000
END:DAYLIGHT
BEGIN:STANDARD
TZOFFSETFROM:+0200
TZOFFSETTO:+0100
TZNAME:CET
DTSTART:20191027T010000
END:STANDARD
BEGIN:DAYLIGHT
TZOFFSETFROM:+0100
TZOFFSETTO:+0200
TZNAME:CEST
DTSTART:20200329T010000
END:DAYLIGHT
BEGIN:STANDARD
TZOFFSETFROM:+0200
TZOFFSETTO:+0100
TZNAME:CET
DTSTART:20201025T010000
END:STANDARD
END:VTIMEZONE
BEGIN:VEVENT
DTSTART;TZID=Europe/Zurich:20190325T190000
DTEND;TZID=Europe/Zurich:20190325T190000
DTSTAMP:20260420T165703
CREATED:20190312T205451Z
LAST-MODIFIED:20190312T205451Z
UID:88812-1553540400-1553540400@sp-stadtluzern.ch
SUMMARY:26. Berner Suppe
DESCRIPTION:Nationalrätin Prisca Birrer-Heimo berichtet aus der Frühlingssession des Parlamentes. \nMit offerierter SuppeKeine Anmeldung erforderlichMontag\, 25. März 2019\, 20.00 UhrContenti\, Luzern \n***  \nLiebe Interessierte \nLiebe Freundinnen und Freunde \nDie 26. Berner Suppe findet am 25. März in Luzern statt – mit Berichten über das politische Geschehen in Bundesbern und Blicken hinter die Kulissen. \nWährend der Frühlingssession werden wichtige Entscheide in folgenden und anderen Geschäften gefällt: Reform der Ergänzungsleistungen\, Weiterentwicklung der IV\, Ausbauschritt 2020-2023 für die Nationalstrassen (Bypass Luzern)\, Ausbauschritt 2035 Eisenbahninfrastruktur (Durchgangsbahnhof Luzern) und die Anpassung der Franchisen im Krankenversicherungsgesetz. \nGerne beantworte ich Ihre Fragen.Ich freue mich bereits heute auf das gemütliche Beisammensein und lade alle Interessierten herzlich ein.
URL:https://sp-stadtluzern.ch/veranstaltung/26-berner-suppe/
END:VEVENT
END:VCALENDAR