BEGIN:VCALENDAR
VERSION:2.0
PRODID:-//SP Stadt Luzern - ECPv6.15.20//NONSGML v1.0//EN
CALSCALE:GREGORIAN
METHOD:PUBLISH
X-WR-CALNAME:SP Stadt Luzern
X-ORIGINAL-URL:https://sp-stadtluzern.ch
X-WR-CALDESC:Veranstaltungen im SP Stadt Luzern
REFRESH-INTERVAL;VALUE=DURATION:PT1H
X-Robots-Tag:noindex
X-PUBLISHED-TTL:PT1H
BEGIN:VTIMEZONE
TZID:Europe/Zurich
BEGIN:DAYLIGHT
TZOFFSETFROM:+0100
TZOFFSETTO:+0200
TZNAME:CEST
DTSTART:20200329T010000
END:DAYLIGHT
BEGIN:STANDARD
TZOFFSETFROM:+0200
TZOFFSETTO:+0100
TZNAME:CET
DTSTART:20201025T010000
END:STANDARD
BEGIN:DAYLIGHT
TZOFFSETFROM:+0100
TZOFFSETTO:+0200
TZNAME:CEST
DTSTART:20210328T010000
END:DAYLIGHT
BEGIN:STANDARD
TZOFFSETFROM:+0200
TZOFFSETTO:+0100
TZNAME:CET
DTSTART:20211031T010000
END:STANDARD
BEGIN:DAYLIGHT
TZOFFSETFROM:+0100
TZOFFSETTO:+0200
TZNAME:CEST
DTSTART:20220327T010000
END:DAYLIGHT
BEGIN:STANDARD
TZOFFSETFROM:+0200
TZOFFSETTO:+0100
TZNAME:CET
DTSTART:20221030T010000
END:STANDARD
END:VTIMEZONE
BEGIN:VEVENT
DTSTART;TZID=Europe/Zurich:20211125T183000
DTEND;TZID=Europe/Zurich:20211125T203000
DTSTAMP:20260420T170111
CREATED:20211108T110511Z
LAST-MODIFIED:20211108T110511Z
UID:88873-1637865000-1637872200@sp-stadtluzern.ch
SUMMARY:2. Treffen der Projektgruppe Littau/Reussbühl
DESCRIPTION:Die Projektgruppe Littau/Reussbühl trifft sich am 25. November 2021 zum 2. Austausch im Restaurant Philipp Neri(Obermättelistr. 14\, 6015 Luzern). \nWir nehmen wichtige Inputs aus dem letzten Treffen wieder auf und konkretisieren diese. Unteranderem diskutierten wir über verkehrspolitische Themen\, welche die Quartiere beschäftigen aber auch über die nächsten Wahlen. \nHast du auch Lust\, deinen Stadtteil aktiv mitzugestalten? Dann bist du am 25.11.2021 herzlich willkommen! Politisches Vorwissen brauchst du dabei nicht. \nBitte beachte\, dass für den Eintritt ins Restaurant ein gültiges Covid-Zertifikat benötigt wird. \nWir freuen uns auf zahlreiche neue und alte Gesichter. 
URL:https://sp-stadtluzern.ch/veranstaltung/2-treffen-der-projektgruppe-littau-reussbuehl/
END:VEVENT
END:VCALENDAR