BEGIN:VCALENDAR
VERSION:2.0
PRODID:-//SP Stadt Luzern - ECPv6.15.20//NONSGML v1.0//EN
CALSCALE:GREGORIAN
METHOD:PUBLISH
X-WR-CALNAME:SP Stadt Luzern
X-ORIGINAL-URL:https://sp-stadtluzern.ch
X-WR-CALDESC:Veranstaltungen im SP Stadt Luzern
REFRESH-INTERVAL;VALUE=DURATION:PT1H
X-Robots-Tag:noindex
X-PUBLISHED-TTL:PT1H
BEGIN:VTIMEZONE
TZID:Europe/Zurich
BEGIN:DAYLIGHT
TZOFFSETFROM:+0100
TZOFFSETTO:+0200
TZNAME:CEST
DTSTART:20220327T010000
END:DAYLIGHT
BEGIN:STANDARD
TZOFFSETFROM:+0200
TZOFFSETTO:+0100
TZNAME:CET
DTSTART:20221030T010000
END:STANDARD
BEGIN:DAYLIGHT
TZOFFSETFROM:+0100
TZOFFSETTO:+0200
TZNAME:CEST
DTSTART:20230326T010000
END:DAYLIGHT
BEGIN:STANDARD
TZOFFSETFROM:+0200
TZOFFSETTO:+0100
TZNAME:CET
DTSTART:20231029T010000
END:STANDARD
BEGIN:DAYLIGHT
TZOFFSETFROM:+0100
TZOFFSETTO:+0200
TZNAME:CEST
DTSTART:20240331T010000
END:DAYLIGHT
BEGIN:STANDARD
TZOFFSETFROM:+0200
TZOFFSETTO:+0100
TZNAME:CET
DTSTART:20241027T010000
END:STANDARD
END:VTIMEZONE
BEGIN:VEVENT
DTSTART;TZID=Europe/Zurich:20230226T173000
DTEND;TZID=Europe/Zurich:20230226T190000
DTSTAMP:20260420T170110
CREATED:20230131T132518Z
LAST-MODIFIED:20230131T132518Z
UID:88898-1677432600-1677438000@sp-stadtluzern.ch
SUMMARY:2. Rundgang: Hier haben mal Luzerner:innen gewohnt (Apartment-Hotspot Hirschmatt/Neustadt)
DESCRIPTION:Treffpunkt: Luzerner Theater; Schlusspunkt: Bundesplatz \nVorher bezahlbarer Wohnraum\, heute alles Airbnb-Wohnungen: Anhand konkreter Immobilien zeigen wir auf\, wie das Geschäftsmodell Airbnb der Bevölkerung den Wohnraum wegnimmt\, die Wohnungen rundherum verteuert – und welche widersprüchliche Rolle die Hotels dabei spielen.
URL:https://sp-stadtluzern.ch/veranstaltung/2-rundgang-hier-haben-mal-luzernerinnen-gewohnt-apartment-hotspot-hirschmatt-neustadt/
END:VEVENT
END:VCALENDAR