BEGIN:VCALENDAR
VERSION:2.0
PRODID:-//SP Stadt Luzern - ECPv6.15.20//NONSGML v1.0//EN
CALSCALE:GREGORIAN
METHOD:PUBLISH
X-WR-CALNAME:SP Stadt Luzern
X-ORIGINAL-URL:https://sp-stadtluzern.ch
X-WR-CALDESC:Veranstaltungen im SP Stadt Luzern
REFRESH-INTERVAL;VALUE=DURATION:PT1H
X-Robots-Tag:noindex
X-PUBLISHED-TTL:PT1H
BEGIN:VTIMEZONE
TZID:Europe/Zurich
BEGIN:DAYLIGHT
TZOFFSETFROM:+0100
TZOFFSETTO:+0200
TZNAME:CEST
DTSTART:20210328T010000
END:DAYLIGHT
BEGIN:STANDARD
TZOFFSETFROM:+0200
TZOFFSETTO:+0100
TZNAME:CET
DTSTART:20211031T010000
END:STANDARD
BEGIN:DAYLIGHT
TZOFFSETFROM:+0100
TZOFFSETTO:+0200
TZNAME:CEST
DTSTART:20220327T010000
END:DAYLIGHT
BEGIN:STANDARD
TZOFFSETFROM:+0200
TZOFFSETTO:+0100
TZNAME:CET
DTSTART:20221030T010000
END:STANDARD
BEGIN:DAYLIGHT
TZOFFSETFROM:+0100
TZOFFSETTO:+0200
TZNAME:CEST
DTSTART:20230326T010000
END:DAYLIGHT
BEGIN:STANDARD
TZOFFSETFROM:+0200
TZOFFSETTO:+0100
TZNAME:CET
DTSTART:20231029T010000
END:STANDARD
END:VTIMEZONE
BEGIN:VEVENT
DTSTART;TZID=Europe/Zurich:20220827T160000
DTEND;TZID=Europe/Zurich:20220827T160000
DTSTAMP:20260420T165940
CREATED:20220822T110859Z
LAST-MODIFIED:20220822T110859Z
UID:88888-1661616000-1661616000@sp-stadtluzern.ch
SUMMARY:125 Jahre SP Kanton Luzern
DESCRIPTION:Die SP Katon Luzern feiert ihr 125-jähriges Jubiläum! \nZusammen mit unseren Mitgliedern und der restlichen Bevölkerung wollen wir auf unsere Erfolge anstossen und natürlich\, auf alles was noch kommen wird! \nAb 18.00 Uhr beginnt das Fest im Kulturzentrum Südpol. \nMehr Infos zur Veranstaltung findest du auf der Webseite der Kantonalpartei. \nWir freuen uns auch euch!
URL:https://sp-stadtluzern.ch/veranstaltung/125-jahre-sp-kanton-luzern/
END:VEVENT
END:VCALENDAR