BEGIN:VCALENDAR
VERSION:2.0
PRODID:-//SP Stadt Luzern - ECPv6.15.20//NONSGML v1.0//EN
CALSCALE:GREGORIAN
METHOD:PUBLISH
X-WR-CALNAME:SP Stadt Luzern
X-ORIGINAL-URL:https://sp-stadtluzern.ch
X-WR-CALDESC:Veranstaltungen im SP Stadt Luzern
REFRESH-INTERVAL;VALUE=DURATION:PT1H
X-Robots-Tag:noindex
X-PUBLISHED-TTL:PT1H
BEGIN:VTIMEZONE
TZID:Europe/Zurich
BEGIN:DAYLIGHT
TZOFFSETFROM:+0100
TZOFFSETTO:+0200
TZNAME:CEST
DTSTART:20220327T010000
END:DAYLIGHT
BEGIN:STANDARD
TZOFFSETFROM:+0200
TZOFFSETTO:+0100
TZNAME:CET
DTSTART:20221030T010000
END:STANDARD
BEGIN:DAYLIGHT
TZOFFSETFROM:+0100
TZOFFSETTO:+0200
TZNAME:CEST
DTSTART:20230326T010000
END:DAYLIGHT
BEGIN:STANDARD
TZOFFSETFROM:+0200
TZOFFSETTO:+0100
TZNAME:CET
DTSTART:20231029T010000
END:STANDARD
BEGIN:DAYLIGHT
TZOFFSETFROM:+0100
TZOFFSETTO:+0200
TZNAME:CEST
DTSTART:20240331T010000
END:DAYLIGHT
BEGIN:STANDARD
TZOFFSETFROM:+0200
TZOFFSETTO:+0100
TZNAME:CET
DTSTART:20241027T010000
END:STANDARD
END:VTIMEZONE
BEGIN:VEVENT
DTSTART;TZID=Europe/Zurich:20230209T173000
DTEND;TZID=Europe/Zurich:20230209T190000
DTSTAMP:20260420T183927
CREATED:20230131T132327Z
LAST-MODIFIED:20230131T132327Z
UID:88897-1675963800-1675969200@sp-stadtluzern.ch
SUMMARY:1. Rundgang: Wo genau sind diese Airbnb? (Apartment-Hotspot Altstadt/Wey)
DESCRIPTION:Treffpunkt: Luzerner Theater; Schlusspunkt: Hofkirche \nWie viele angemeldete Einwohner:innen hat die Altstadt eigentlich noch? Welche Strasse im Weyquartier besteht inzwischen fast nur aus Business Apartments? Und welche Firmen verdienen fleissig daran? Dies und mehr verraten wir auf dem ersten von drei Quartierrundgängen. \n 
URL:https://sp-stadtluzern.ch/veranstaltung/1-rundgang-wo-genau-sind-diese-airbnb-apartment-hotspot-altstadt-wey/
END:VEVENT
END:VCALENDAR